BEGIN:VCALENDAR
VERSION:2.0
PRODID:-//ChamberMaster//Event Calendar 2.0//EN
METHOD:PUBLISH
X-PUBLISHED-TTL:P3D
REFRESH-INTERVAL:P3D
CALSCALE:GREGORIAN
BEGIN:VEVENT
DTSTART:20160506T023000Z
DTEND:20160506T070000Z
X-MICROSOFT-CDO-ALLDAYEVENT:FALSE
SUMMARY:The Sirens - A play by Darrah Cloud
DESCRIPTION:Tickets start at $10.00 and available at http://tickets.galloarts.org\nVIP reception before each performance in the lobby of the Theatre\n\nFurther information:  Enochs High School HARRT (Healthy and Responsible Relationships Troop) and the Ending the Culture of Violence Committee\, Continuing the Conversation Speaker Series present a Fundraiser for the Haven Women's Center of Stanislaus County and all proceeds benefits the organization. This play is not a love story but the story of 5 individual women in sexually abusive relationships from beginning to resolution.  The play is  Sponsored by AAUW Oakdale\, Riverbank\, Escalon and Turlock Branch and the Delta Kappa Gamma Epsilon Nu and Alpha Epsilon Chapters.  Produced with grants from:  Credit Bureau Foundation and Don Costa Family Fund.
X-ALT-DESC;FMTTYPE=text/html:Tickets start at $10.00 and available at http://tickets.galloarts.org\nVIP reception before each performance in the lobby of the Theatre\n\nFurther information:  Enochs High School HARRT (Healthy and Responsible Relationships Troop) and the Ending the Culture of Violence Committee\, Continuing the Conversation Speaker Series present a Fundraiser for the Haven Women's Center of Stanislaus County and all proceeds benefits the organization. This play is not a love story but the story of 5 individual women in sexually abusive relationships from beginning to resolution.  The play is  Sponsored by AAUW Oakdale\, Riverbank\, Escalon and Turlock Branch and the Delta Kappa Gamma Epsilon Nu and Alpha Epsilon Chapters.  Produced with grants from:  Credit Bureau Foundation and Don Costa Family Fund.  \n
LOCATION:Gallo Arts Center Foster Family Theatre 1000 I Street Modesto\, CA 95354
UID:e.2695.1559
SEQUENCE:3
DTSTAMP:20260419T124923Z
URL:https://business.modchamber.org/events/details/the-sirens-a-play-by-darrah-cloud-05-05-2016-1559
END:VEVENT

END:VCALENDAR
