BEGIN:VCALENDAR
VERSION:2.0
PRODID:-//ChamberMaster//Event Calendar 2.0//EN
METHOD:PUBLISH
X-PUBLISHED-TTL:P3D
REFRESH-INTERVAL:P3D
CALSCALE:GREGORIAN
BEGIN:VEVENT
DTSTART:20150308T040000Z
DTEND:20150307T080000Z
X-MICROSOFT-CDO-ALLDAYEVENT:FALSE
SUMMARY:The Ryan Russel Band
DESCRIPTION:$7 Admission \nAll Ages Show\n21+ Bar Doors open at 7\nFeaturing acts include:\nRandy Mandy Band and Bethany Joseph\nContact :	Prospect Theater\nPhone :	209-549-9341\nEmail :	\nWeb Site :
X-ALT-DESC;FMTTYPE=text/html:$7 Admission \nAll Ages Show\n21+ Bar Doors open at 7\nFeaturing acts include:\nRandy Mandy Band and Bethany Joseph\nContact :	Prospect Theater\nPhone :	209-549-9341\nEmail :	\nWeb Site :	
LOCATION:Prospect Theater 1214 K Street Modesto\, CA 95354
UID:e.2695.785
SEQUENCE:3
DTSTAMP:20260420T073840Z
URL:https://business.modchamber.org/events/details/the-ryan-russel-band-03-07-2015-785
END:VEVENT

END:VCALENDAR
