BEGIN:VCALENDAR
VERSION:2.0
PRODID:-//ChamberMaster//Event Calendar 2.0//EN
METHOD:PUBLISH
X-PUBLISHED-TTL:P3D
REFRESH-INTERVAL:P3D
CALSCALE:GREGORIAN
BEGIN:VEVENT
DTSTART:20151205T023000Z
DTEND:20151204T080000Z
X-MICROSOFT-CDO-ALLDAYEVENT:FALSE
SUMMARY:The Red Black & Green Ball - Women's Auxiliary
DESCRIPTION:Benefiting Academic Scholarship Program \n\nChampagne Social\, Dinner & Dancing\, Silent Auction & Raffle.\n\n\nContact :	Synthia Loften\nPhone :	209-543-5769\nEmail :	\nWeb Site :
X-ALT-DESC;FMTTYPE=text/html:Benefiting Academic Scholarship Program \n\nChampagne Social\, Dinner & Dancing\, Silent Auction & Raffle.\n\n\nContact :	Synthia Loften\nPhone :	209-543-5769\nEmail :	\nWeb Site :	
LOCATION:Double Hotel 1150 9th St Modesto\, CA 95354
UID:e.2695.1290
SEQUENCE:3
DTSTAMP:20260419T191232Z
URL:https://business.modchamber.org/events/details/the-red-black-green-ball-women-s-auxiliary-12-04-2015-1290
END:VEVENT

END:VCALENDAR
