BEGIN:VCALENDAR
VERSION:2.0
PRODID:-//ChamberMaster//Event Calendar 2.0//EN
METHOD:PUBLISH
X-PUBLISHED-TTL:P3D
REFRESH-INTERVAL:P3D
CALSCALE:GREGORIAN
BEGIN:VEVENT
DTSTART:20151004T030000Z
DTEND:20151003T070000Z
X-MICROSOFT-CDO-ALLDAYEVENT:FALSE
SUMMARY:The Prisoner of 2nd Ave. the Play
DESCRIPTION:Middle-age\, economic meltdown\, urban angst\, a city on the edge of crisis. What’s not to laugh about? Prospect’s first foray into the imagination of Neil Simon in his 1972 Tony nominated comedy\, of which Clive Barnes of the New York Times wrote: “It is\, I think\, the most honestly amusing comedy that Mr. Simon has so far given us.”\nContact :	Prospect Theater\nPhone :	209-549-9341\nEmail :	\nWeb Site :
X-ALT-DESC;FMTTYPE=text/html:Middle-age\, economic meltdown\, urban angst\, a city on the edge of crisis. What’s not to laugh about? Prospect’s first foray into the imagination of Neil Simon in his 1972 Tony nominated comedy\, of which Clive Barnes of the New York Times wrote: “It is\, I think\, the most honestly amusing comedy that Mr. Simon has so far given us.”\nContact :	Prospect Theater\nPhone :	209-549-9341\nEmail :	\nWeb Site :	
LOCATION:Prospect Theater 1214 K Street Modesto\, CA 95354
UID:e.2695.1213
SEQUENCE:3
DTSTAMP:20260419T214916Z
URL:https://business.modchamber.org/events/details/the-prisoner-of-2nd-ave-the-play-10-03-2015-1213
END:VEVENT

END:VCALENDAR
