BEGIN:VCALENDAR
VERSION:2.0
PRODID:-//ChamberMaster//Event Calendar 2.0//EN
METHOD:PUBLISH
X-PUBLISHED-TTL:P3D
REFRESH-INTERVAL:P3D
CALSCALE:GREGORIAN
BEGIN:VEVENT
DTSTART:20160130T033000Z
DTEND:20160129T080000Z
X-MICROSOFT-CDO-ALLDAYEVENT:FALSE
SUMMARY:THE PEKING ACROBATS
DESCRIPTION:This troupe of China's most gifted tumblers\, contortionists\, jugglers\, cyclists\, and gymnasts\, complemented by live musicians playing traditional Chinese instruments\, has a tradition of acrobatics dating back 2\,000 years. “The things these kids can do before breakfast…seem to push the envelope of human possibility. If daring and dexterity turn you on\, this is a show that will probably twist you around in your seat…it’s amazing and exciting!” –Clive Barnes\, New York Post\nContact :	Gallo Center\nPhone :	209-338-2100\nEmail :	\nWeb Site :	galloarts.org
X-ALT-DESC;FMTTYPE=text/html:This troupe of China's most gifted tumblers\, contortionists\, jugglers\, cyclists\, and gymnasts\, complemented by live musicians playing traditional Chinese instruments\, has a tradition of acrobatics dating back 2\,000 years. “The things these kids can do before breakfast…seem to push the envelope of human possibility. If daring and dexterity turn you on\, this is a show that will probably twist you around in your seat…it’s amazing and exciting!” –Clive Barnes\, New York Post\nContact :	Gallo Center\nPhone :	209-338-2100\nEmail :	\nWeb Site :	galloarts.org
LOCATION:Gallo Center 1000 I St Modesto\, CA 95354
UID:e.2695.1349
SEQUENCE:3
DTSTAMP:20260419T174734Z
URL:https://business.modchamber.org/events/details/the-peking-acrobats-01-29-2016-1349
END:VEVENT

END:VCALENDAR
