BEGIN:VCALENDAR
VERSION:2.0
PRODID:-//ChamberMaster//Event Calendar 2.0//EN
METHOD:PUBLISH
X-PUBLISHED-TTL:P3D
REFRESH-INTERVAL:P3D
CALSCALE:GREGORIAN
BEGIN:VEVENT
DTSTART:20151212T220000Z
DTEND:20151212T080000Z
X-MICROSOFT-CDO-ALLDAYEVENT:FALSE
SUMMARY:THE NUTCRACKER - Central West Ballet
DESCRIPTION:Share the tradition of the Nutcracker with a child you love.\n\nYour family Holiday favorite returns to the land of the Sugar Plum Fairy. Enjoy a magical performance and meet the cast at the Sugar Plum Fairy parties.Tchaikovsky’s beautiful score\, brought to life by our Company dancers along with our own community children\, will enchant you all over again.\nContact :	Gallo Center\nPhone :	209-338-2100\nEmail :	\nWeb Site :	galloarts.org
X-ALT-DESC;FMTTYPE=text/html:Share the tradition of the Nutcracker with a child you love.\n\nYour family Holiday favorite returns to the land of the Sugar Plum Fairy. Enjoy a magical performance and meet the cast at the Sugar Plum Fairy parties.Tchaikovsky’s beautiful score\, brought to life by our Company dancers along with our own community children\, will enchant you all over again.\nContact :	Gallo Center\nPhone :	209-338-2100\nEmail :	\nWeb Site :	galloarts.org
LOCATION:Gallo Center 1000 I St Modesto\, CA 95354
UID:e.2695.1302
SEQUENCE:3
DTSTAMP:20260419T190513Z
URL:https://business.modchamber.org/events/details/the-nutcracker-central-west-ballet-12-12-2015-1302
END:VEVENT

END:VCALENDAR
