BEGIN:VCALENDAR
VERSION:2.0
PRODID:-//ChamberMaster//Event Calendar 2.0//EN
METHOD:PUBLISH
X-PUBLISHED-TTL:P3D
REFRESH-INTERVAL:P3D
CALSCALE:GREGORIAN
BEGIN:VEVENT
DTSTART:20150621T023000Z
DTEND:20150620T070000Z
X-MICROSOFT-CDO-ALLDAYEVENT:FALSE
SUMMARY:The Music Man
DESCRIPTION:The Music Man is a musical with book\, music\, and lyrics by Meredith Willson\, based on a story by Willson and Franklin Lacey. The plot concerns con man Harold Hill\, who poses as a boys' band organizer and leader and sells band instruments and uniforms to the naive Iowa townsfolk\, promising to train the members of the new band. But Harold is no musician and plans to skip town without giving any music lessons. Prim librarian and piano teacher Marian sees through him\, but when Harold helps her younger brother overcome his lisp and social awkwardness\, Marian begins to fall in love. Harold risks being caught to win her.\nContact :	Gallo Center\nPhone :	209-338-2100\nEmail :	\nWeb Site :	galloarts.org
X-ALT-DESC;FMTTYPE=text/html:The Music Man is a musical with book\, music\, and lyrics by Meredith Willson\, based on a story by Willson and Franklin Lacey. The plot concerns con man Harold Hill\, who poses as a boys' band organizer and leader and sells band instruments and uniforms to the naive Iowa townsfolk\, promising to train the members of the new band. But Harold is no musician and plans to skip town without giving any music lessons. Prim librarian and piano teacher Marian sees through him\, but when Harold helps her younger brother overcome his lisp and social awkwardness\, Marian begins to fall in love. Harold risks being caught to win her.\nContact :	Gallo Center\nPhone :	209-338-2100\nEmail :	\nWeb Site :	galloarts.org
LOCATION:Gallo Center 1000 I St Modesto\, CA 95354
UID:e.2695.1008
SEQUENCE:3
DTSTAMP:20260420T031836Z
URL:https://business.modchamber.org/events/details/the-music-man-06-20-2015-1008
END:VEVENT

END:VCALENDAR
