BEGIN:VCALENDAR
VERSION:2.0
PRODID:-//ChamberMaster//Event Calendar 2.0//EN
METHOD:PUBLISH
X-PUBLISHED-TTL:P3D
REFRESH-INTERVAL:P3D
CALSCALE:GREGORIAN
BEGIN:VEVENT
DTSTART:20150425T190000Z
DTEND:20150426T010000Z
X-MICROSOFT-CDO-ALLDAYEVENT:FALSE
SUMMARY:The Modesto Art & Music Extravaganza
DESCRIPTION:Kick-Off for Mental Health Matters\n\nLive Music:\n\nBig Earl & the Cryin' Shame\nThe Pendletons\nRob Hill\nPatty Davis\nDJ Savage Salvador\n\nFeaturing:\n\nCustom cars\nlive art show\nspeakers\ndancing\n\nno cost to attend\nan all ages family events\nContact : 	Peer Recovery Arts Project\nPhone : 	209-581-1695\nEmail : 	\nWeb Site : 	http://www.peerrecoveryartproject.org/
X-ALT-DESC;FMTTYPE=text/html:	Kick-Off for Mental Health Matters\n\nLive Music:\n\nBig Earl & the Cryin' Shame\nThe Pendletons\nRob Hill\nPatty Davis\nDJ Savage Salvador\n\nFeaturing:\n\nCustom cars\nlive art show\nspeakers\ndancing\n\nno cost to attend\nan all ages family events\nContact : 	Peer Recovery Arts Project\nPhone : 	209-581-1695\nEmail : 	\nWeb Site : 	http://www.peerrecoveryartproject.org/
LOCATION:10th Street Plaza 1010 10th St Modesto\, CA 95354
UID:e.2695.892
SEQUENCE:3
DTSTAMP:20260420T062936Z
URL:https://business.modchamber.org/events/details/the-modesto-art-music-extravaganza-04-25-2015-892
END:VEVENT

END:VCALENDAR
