BEGIN:VCALENDAR
VERSION:2.0
PRODID:-//ChamberMaster//Event Calendar 2.0//EN
METHOD:PUBLISH
X-PUBLISHED-TTL:P3D
REFRESH-INTERVAL:P3D
CALSCALE:GREGORIAN
BEGIN:VEVENT
DTSTART:20150508T023000Z
DTEND:20150507T070000Z
X-MICROSOFT-CDO-ALLDAYEVENT:FALSE
SUMMARY:The Midtown Men
DESCRIPTION:They took Broadway by storm in one of the biggest hits of all-time. Now these four stars from the original cast of Jersey Boys are on their fourth national tour and on their way to the Gallo Center! They are The Midtown Men—Tony-Award winner Christian Hoff\, Daniel Reichard\, Michael Longoria and Tony-Award nominee J. Robert Spencer. You’ll be thrilled as The Midtown Men lend their signature sound to greatest pop hits of the 60’s from The Beatles\, The Rascals\, Motown\, The Four Seasons and more.\nContact :	Gallo Center\nPhone :	209-338-2100\nEmail :	\nWeb Site :	galloarts.org
X-ALT-DESC;FMTTYPE=text/html:	They took Broadway by storm in one of the biggest hits of all-time. Now these four stars from the original cast of Jersey Boys are on their fourth national tour and on their way to the Gallo Center! They are The Midtown Men—Tony-Award winner Christian Hoff\, Daniel Reichard\, Michael Longoria and Tony-Award nominee J. Robert Spencer. You’ll be thrilled as The Midtown Men lend their signature sound to greatest pop hits of the 60’s from The Beatles\, The Rascals\, Motown\, The Four Seasons and more.\nContact :	Gallo Center\nPhone :	209-338-2100\nEmail :	\nWeb Site :	galloarts.org
LOCATION:Gallo Center 1000 J St Modesto\, CA 95354
UID:e.2695.919
SEQUENCE:3
DTSTAMP:20260420T061555Z
URL:https://business.modchamber.org/events/details/the-midtown-men-05-07-2015-919
END:VEVENT

END:VCALENDAR
