BEGIN:VCALENDAR
VERSION:2.0
PRODID:-//ChamberMaster//Event Calendar 2.0//EN
METHOD:PUBLISH
X-PUBLISHED-TTL:P3D
REFRESH-INTERVAL:P3D
CALSCALE:GREGORIAN
BEGIN:VEVENT
DTSTART:20160219T033000Z
DTEND:20160218T080000Z
X-MICROSOFT-CDO-ALLDAYEVENT:FALSE
SUMMARY:THE MCCARTNEY YEARS
DESCRIPTION:It's the world's number one tribute to Paul McCartney and it's coming to Modesto! The McCartney years! Live in concert\, Thursday\, February 18\, 2016 at the Gallo Center for the Arts. Over 30 top hits spanning more than 20 albums\, from the Beatles to Wings\, in a concert-style performance. It's like travelling back in time\, and seeing Paul McCartney at the height of his career in the 70's! Catch the band on the run! The McCartney Years! For more information\, visit www.themccartneyyears.net. \n\nBenefiting Modesto Rotary Club and its many local community projects.\nContact :	Gallo Center\nPhone :	209-338-2100\nEmail :	\nWeb Site :	galloarts.org
X-ALT-DESC;FMTTYPE=text/html:It's the world's number one tribute to Paul McCartney and it's coming to Modesto! The McCartney years! Live in concert\, Thursday\, February 18\, 2016 at the Gallo Center for the Arts. Over 30 top hits spanning more than 20 albums\, from the Beatles to Wings\, in a concert-style performance. It's like travelling back in time\, and seeing Paul McCartney at the height of his career in the 70's! Catch the band on the run! The McCartney Years! For more information\, visit www.themccartneyyears.net. \n\nBenefiting Modesto Rotary Club and its many local community projects.\nContact :	Gallo Center\nPhone :	209-338-2100\nEmail :	\nWeb Site :	galloarts.org
LOCATION:Gallo Center 1000 I Streer Modesto\, CA 95354
UID:e.2695.1402
SEQUENCE:3
DTSTAMP:20260419T174635Z
URL:https://business.modchamber.org/events/details/the-mccartney-years-02-18-2016-1402
END:VEVENT

END:VCALENDAR
