BEGIN:VCALENDAR
VERSION:2.0
PRODID:-//ChamberMaster//Event Calendar 2.0//EN
METHOD:PUBLISH
X-PUBLISHED-TTL:P3D
REFRESH-INTERVAL:P3D
CALSCALE:GREGORIAN
BEGIN:VEVENT
DTSTART;VALUE=DATE:20140116
DTEND;VALUE=DATE:20140217
TRANSP:TRANSPARENT
X-MICROSOFT-CDO-ALLDAYEVENT:TRUE
SUMMARY:The Lord's Closet
DESCRIPTION:This is a dine in or dine-out dinner fundraiser at Tahoe Joes\, 3801 Pelandale Avenue\, Modesto. Taking orders for Steak\, B-que Chicken Breast or Sierra Mountain Ribs w/ Blue Lake Green Beans\, MountainMashed Potatoes and your choice of soup or salad. Cost:  $20.00 a plate.
X-ALT-DESC;FMTTYPE=text/html:This is a dine in or dine-out dinner fundraiser at Tahoe Joes\, 3801 Pelandale Avenue\, Modesto. Taking orders for Steak\, B-que Chicken Breast or Sierra Mountain Ribs w/ Blue Lake Green Beans\, MountainMashed Potatoes and your choice of soup or salad. Cost:  $20.00 a plate.
LOCATION:
UID:e.2695.370
SEQUENCE:3
DTSTAMP:20260423T043952Z
URL:https://business.modchamber.org/events/details/the-lord-s-closet-01-16-2014-370
END:VEVENT

END:VCALENDAR
