BEGIN:VCALENDAR
VERSION:2.0
PRODID:-//ChamberMaster//Event Calendar 2.0//EN
METHOD:PUBLISH
X-PUBLISHED-TTL:P3D
REFRESH-INTERVAL:P3D
CALSCALE:GREGORIAN
BEGIN:VEVENT
DTSTART:20150318T023000Z
DTEND:20150317T070000Z
X-MICROSOFT-CDO-ALLDAYEVENT:FALSE
SUMMARY:The Kite Runner by Khaled Hosseini
DESCRIPTION:In association with Young Audiences New York\nThe Gallo Center & MCCA present \nThe Literature to Life® stage presentation of \n\nThe Kite Runner \nBy Khaled Hosseini \nPerformed by Sorab Wadia \nAdapted and Directed by Wynn Handman \n\nThis Literature to Life award winner\, adapted for the stage in 2004\, features fifty minutes of verbatim performance from the first half of this best-selling contemporary novel. The adaptation mirrors the original short story written by the author and utilizes original Afghani music as a backdrop for the performance. A favorite on the national educational circuit\, “The Kite Runner” has played in communities from California to Massachusetts. Through the eyes of the young protagonist\, Amir\, the actor takes us on a heartbreaking journey of friendship and betrayal in a society of severe class division. We meet upwards of eight characters\, each fully realized by this virtuosic performer. Surrounded by a pre- and post-show interactive discussion the audience will explore themes including redemption and class systems.\nContact :	Gallo Center\nPhone :	209-338-2100\nEmail :	\nWeb Site :	galloarts.org
X-ALT-DESC;FMTTYPE=text/html:In association with Young Audiences New York\nThe Gallo Center & MCCA present \nThe Literature to Life® stage presentation of \n\nThe Kite Runner \nBy Khaled Hosseini \nPerformed by Sorab Wadia \nAdapted and Directed by Wynn Handman \n\nThis Literature to Life award winner\, adapted for the stage in 2004\, features fifty minutes of verbatim performance from the first half of this best-selling contemporary novel. The adaptation mirrors the original short story written by the author and utilizes original Afghani music as a backdrop for the performance. A favorite on the national educational circuit\, “The Kite Runner” has played in communities from California to Massachusetts. Through the eyes of the young protagonist\, Amir\, the actor takes us on a heartbreaking journey of friendship and betrayal in a society of severe class division. We meet upwards of eight characters\, each fully realized by this virtuosic performer. Surrounded by a pre- and post-show interactive discussion the audience will explore themes including redemption and class systems.\nContact :	Gallo Center\nPhone :	209-338-2100\nEmail :	\nWeb Site :	galloarts.org
LOCATION:Gallo Center 1000 I Street Modesto\, CA 95354
UID:e.2695.800
SEQUENCE:3
DTSTAMP:20260420T074043Z
URL:https://business.modchamber.org/events/details/the-kite-runner-by-khaled-hosseini-03-17-2015-800
END:VEVENT

END:VCALENDAR
