BEGIN:VCALENDAR
VERSION:2.0
PRODID:-//ChamberMaster//Event Calendar 2.0//EN
METHOD:PUBLISH
X-PUBLISHED-TTL:P3D
REFRESH-INTERVAL:P3D
CALSCALE:GREGORIAN
BEGIN:VEVENT
DTSTART:20150411T020000Z
DTEND:20150410T070000Z
X-MICROSOFT-CDO-ALLDAYEVENT:FALSE
SUMMARY:The Keystone Light Friends of The BOB & TOM Show
DESCRIPTION:The Bob   show at 7 p.m.\nTickets are $28 and $34 (Gold Circle)\nContact : 	State Theatre\nPhone : 	BOX OFFICE (209) 527-4697\nEmail : 	\nWeb Site : 	thestate.org
X-ALT-DESC;FMTTYPE=text/html:	The Bob & Tom Show and 104.5 The Hawk present The Keystone Light Friends of The BOB & TOM Show Comedy Tour\, a rotating ensemble of the world’s best comedians. Each live comedy show\, brought to stages across the nation\, features several headliners heard on The BOB & TOM Show\, one of the longest-running and highest-rated radio programs in America and the premiere radio showcase for today’s top comedians. The Modesto tour features Tim Cavanagh (www.timcav.com)\, Costaki Economopoulos (www.costaki.com) and Drew Hastings (www.drewhastings.com). Tim Cavanagh has been laughed at for more than 20 years. Why? The guy is seriously funny! His credits include ABC-TV\, Comedy Central\, Showtime and he’s been a regular on the popular\, nationally syndicated BOB & TOM radio show for over a decade. Critically acclaimed comedian Drew Hastings\, known for his astute observations on the decline of American society\, recently launched a new tour\, Farmageddon\, after leaving Hollywood to become a Midwestern cattle farmer. He’s also the newly elected mayor of Hillsboro\, OH. Costaki Economopoulos has written jokes for Bette Midler\, Jay Leno\, MTV and BEET. You may have seen him on Showtime\, but he’s best known for his appearances on The BOB & TOM radio show. All tickets include a $1 donation to the Red Cross. This show is recommended for those 18 years old and older.\nDoors at 6 p.m.\; show at 7 p.m.\nTickets are $28 and $34 (Gold Circle)\nContact : 	State Theatre\nPhone : 	BOX OFFICE (209) 527-4697\nEmail : 	\nWeb Site : 	thestate.org
LOCATION:State Theatre 1307 J St Modesto\, CA 95354
UID:e.2695.852
SEQUENCE:3
DTSTAMP:20260420T063334Z
URL:https://business.modchamber.org/events/details/the-keystone-light-friends-of-the-bob-tom-show-04-10-2015-852
END:VEVENT

END:VCALENDAR
