BEGIN:VCALENDAR
VERSION:2.0
PRODID:-//ChamberMaster//Event Calendar 2.0//EN
METHOD:PUBLISH
X-PUBLISHED-TTL:P3D
REFRESH-INTERVAL:P3D
CALSCALE:GREGORIAN
BEGIN:VEVENT
DTSTART:20151016T150000Z
DTEND:20151016T200000Z
X-MICROSOFT-CDO-ALLDAYEVENT:FALSE
SUMMARY:The Healthy Aging & Fall Prevention Summit
DESCRIPTION:The Healthy Aging Association\, Kaiser Permanente\, and Stanislaus County Area Agency on Aging\, invite you to attend a FREE health screening and health fair event for older adults 50+ and their Caregivers.\n\nHealth Screenings:\nDiabetes\nCholesterol\nBlood Pressure Checks \nDepression Screenings \nBone Density\nEye Exam\nHearing Test\nMonofilament Foot Screenings \nOral Cancer \nFitness Testing\nBalance Assessments\nVaricose Vein Screenings\nHome Modification Displays \nFlu and Pneumonia Shots\n\nCommunity Information:\nThere are more than 70 community organizations that address a variety of issues geared towards senior health and well-being: \nMemory loss\nDementia\nCaregiving\nLong Term Care Options\nSenior Retirement Centers\nElder Abuse\nFinancial Abuse\nMedication Management\nMedicare\nLegal Assistance\nSenior Fitness Programs\nNutrition Education\nand so much more!\nContact :	HEALTHY AGING ASSOCIATION\nPhone :	(209) 523-2800\nEmail :	\nWeb Site :	www.healthyagingassociation.org
X-ALT-DESC;FMTTYPE=text/html:The Healthy Aging Association\, Kaiser Permanente\, and Stanislaus County Area Agency on Aging\, invite you to attend a FREE health screening and health fair event for older adults 50+ and their Caregivers.\n\nHealth Screenings:\nDiabetes\nCholesterol\nBlood Pressure Checks \nDepression Screenings \nBone Density\nEye Exam\nHearing Test\nMonofilament Foot Screenings \nOral Cancer \nFitness Testing\nBalance Assessments\nVaricose Vein Screenings\nHome Modification Displays \nFlu and Pneumonia Shots\n\nCommunity Information:\nThere are more than 70 community organizations that address a variety of issues geared towards senior health and well-being: \nMemory loss\nDementia\nCaregiving\nLong Term Care Options\nSenior Retirement Centers\nElder Abuse\nFinancial Abuse\nMedication Management\nMedicare\nLegal Assistance\nSenior Fitness Programs\nNutrition Education\nand so much more!\nContact :	HEALTHY AGING ASSOCIATION\nPhone :	(209) 523-2800\nEmail :	\nWeb Site :	www.healthyagingassociation.org\n
LOCATION:Centre Plaza 1000 L St Modesto\, CA 95354
UID:e.2695.1229
SEQUENCE:3
DTSTAMP:20260419T214557Z
URL:https://business.modchamber.org/events/details/the-healthy-aging-fall-prevention-summit-10-16-2015-1229
END:VEVENT

END:VCALENDAR
