BEGIN:VCALENDAR
VERSION:2.0
PRODID:-//ChamberMaster//Event Calendar 2.0//EN
METHOD:PUBLISH
X-PUBLISHED-TTL:P3D
REFRESH-INTERVAL:P3D
CALSCALE:GREGORIAN
BEGIN:VEVENT
DTSTART:20160130T030000Z
DTEND:20160129T080000Z
X-MICROSOFT-CDO-ALLDAYEVENT:FALSE
SUMMARY:THE GIZMO GUYS
DESCRIPTION:Performing as the Gizmo Guys\, comedy jugglers Allan Jacobs and Barrett Felker have amazed and amused audiences around the world. What makes their act so appealing is their uniquely winning combination of dazzling technique and infectious humor. The Gizmo Guys' rapid-fire act exhilarates and inspires sidesplitting laughter in audience members of all ages. “The Gizmo Guys are master jugglers with ebullient energy and exquisite skill... human virtuosity with a touch of lunacy.”—The New York Times\nContact :	Gallo Center\nPhone :	209-338-2100\nEmail :	\nWeb Site :	galloarts.org
X-ALT-DESC;FMTTYPE=text/html:Performing as the Gizmo Guys\, comedy jugglers Allan Jacobs and Barrett Felker have amazed and amused audiences around the world. What makes their act so appealing is their uniquely winning combination of dazzling technique and infectious humor. The Gizmo Guys' rapid-fire act exhilarates and inspires sidesplitting laughter in audience members of all ages. “The Gizmo Guys are master jugglers with ebullient energy and exquisite skill... human virtuosity with a touch of lunacy.”—The New York Times\nContact :	Gallo Center\nPhone :	209-338-2100\nEmail :	\nWeb Site :	galloarts.org
LOCATION:Gallo Center 1000 I St Modesto\, CA 95354
UID:e.2695.1350
SEQUENCE:3
DTSTAMP:20260419T174743Z
URL:https://business.modchamber.org/events/details/the-gizmo-guys-01-29-2016-1350
END:VEVENT

END:VCALENDAR
