BEGIN:VCALENDAR
VERSION:2.0
PRODID:-//ChamberMaster//Event Calendar 2.0//EN
METHOD:PUBLISH
X-PUBLISHED-TTL:P3D
REFRESH-INTERVAL:P3D
CALSCALE:GREGORIAN
BEGIN:VEVENT
DTSTART:20150308T210000Z
DTEND:20150308T230000Z
X-MICROSOFT-CDO-ALLDAYEVENT:FALSE
SUMMARY:The Emperor's New Clothes
DESCRIPTION:The grandeur of the Mediterranean is the backdrop for this delightful comedy. Two fake weavers convince the vain Emperor that they can create cloth so fine\, that foolish people cannot see it. The Emperor buys invisible clothes and parades around his kingdom. All his subjects convince themselves that they see the beautiful clothes in order not to appear foolish. The charade is unmasked when a child observes that the Emperor has no clothes! Suggested for grades K-6.\nContact :	Gallo Center\nPhone :	209-338-2100\nEmail :	\nWeb Site :	galloarts.org
X-ALT-DESC;FMTTYPE=text/html:The grandeur of the Mediterranean is the backdrop for this delightful comedy. Two fake weavers convince the vain Emperor that they can create cloth so fine\, that foolish people cannot see it. The Emperor buys invisible clothes and parades around his kingdom. All his subjects convince themselves that they see the beautiful clothes in order not to appear foolish. The charade is unmasked when a child observes that the Emperor has no clothes! Suggested for grades K-6.\nContact :	Gallo Center\nPhone :	209-338-2100\nEmail :	\nWeb Site :	galloarts.org
LOCATION:Gallo Center 1000 I Street Modesto\, CA 95354
UID:e.2695.789
SEQUENCE:3
DTSTAMP:20260420T074042Z
URL:https://business.modchamber.org/events/details/the-emperor-s-new-clothes-03-08-2015-789
END:VEVENT

END:VCALENDAR
