BEGIN:VCALENDAR
VERSION:2.0
PRODID:-//ChamberMaster//Event Calendar 2.0//EN
METHOD:PUBLISH
X-PUBLISHED-TTL:P3D
REFRESH-INTERVAL:P3D
CALSCALE:GREGORIAN
BEGIN:VEVENT
DTSTART:20151206T220000Z
DTEND:20151207T000000Z
X-MICROSOFT-CDO-ALLDAYEVENT:FALSE
SUMMARY:THE ELVES & THE SHOEMAKER
DESCRIPTION:California Theatre Center's\nTHE ELVES & THE SHOEMAKER\nSponsored in remembrance of Bette Belle Smith \n\nOnly one show has played every year at the Gallo Center since it opened in 2007\, and this is it. Holiday season after holiday season\, children have laughed when two merry elves arrive at a small village in the Black Forest to discover a poor\, kindly shoemaker and his wife who clearly need assistance. Their generosity and cleverness save the shoemaker from a bleak and unhappy holiday!\nContact :	Gallo Center\nPhone :	209-338-2100\nEmail :	\nWeb Site :	galloarts.org
X-ALT-DESC;FMTTYPE=text/html:California Theatre Center's\nTHE ELVES & THE SHOEMAKER\nSponsored in remembrance of Bette Belle Smith \n\nOnly one show has played every year at the Gallo Center since it opened in 2007\, and this is it. Holiday season after holiday season\, children have laughed when two merry elves arrive at a small village in the Black Forest to discover a poor\, kindly shoemaker and his wife who clearly need assistance. Their generosity and cleverness save the shoemaker from a bleak and unhappy holiday!\nContact :	Gallo Center\nPhone :	209-338-2100\nEmail :	\nWeb Site :	galloarts.org
LOCATION:Gallo Center 1000 I St Modesto\, CA 95354
UID:e.2695.1298
SEQUENCE:3
DTSTAMP:20260419T203529Z
URL:https://business.modchamber.org/events/details/the-elves-the-shoemaker-12-06-2015-1298
END:VEVENT

END:VCALENDAR
