BEGIN:VCALENDAR
VERSION:2.0
PRODID:-//ChamberMaster//Event Calendar 2.0//EN
METHOD:PUBLISH
X-PUBLISHED-TTL:P3D
REFRESH-INTERVAL:P3D
CALSCALE:GREGORIAN
BEGIN:VEVENT
DTSTART:20150321T023000Z
DTEND:20150320T070000Z
X-MICROSOFT-CDO-ALLDAYEVENT:FALSE
SUMMARY:The Count Basie Orchestra
DESCRIPTION:THE COUNT BASIE ORCHESTRA\nDirected by Scotty Barnhart\n\nIn the history of jazz there is only one bandleader with distinction of having his orchestra still performing sold out concerts all over the world\, with members personally chosen by him\, nearly 30 years after his passing. Pianist and bandleader William James “Count” Basie was and still is an American institution that personifies the grandeur and excellence of jazz. Led by trumpeter Scotty Barnhart since 2013\, and featuring vocalist Carmen Bradford\, a Basie discovery\, the Count Basie Orchestra is going swing the Gallo Center like\, well\, like no other.\nContact :	Gallo Center\nPhone :	209-338-2100\nEmail :	\nWeb Site :	galloarts.org
X-ALT-DESC;FMTTYPE=text/html:THE COUNT BASIE ORCHESTRA\nDirected by Scotty Barnhart\n\nIn the history of jazz there is only one bandleader with distinction of having his orchestra still performing sold out concerts all over the world\, with members personally chosen by him\, nearly 30 years after his passing. Pianist and bandleader William James “Count” Basie was and still is an American institution that personifies the grandeur and excellence of jazz. Led by trumpeter Scotty Barnhart since 2013\, and featuring vocalist Carmen Bradford\, a Basie discovery\, the Count Basie Orchestra is going swing the Gallo Center like\, well\, like no other.\nContact :	Gallo Center\nPhone :	209-338-2100\nEmail :	\nWeb Site :	galloarts.org
LOCATION:Gallo Center 1000 I Street Modesto\, CA 95354
UID:e.2695.809
SEQUENCE:3
DTSTAMP:20260420T073745Z
URL:https://business.modchamber.org/events/details/the-count-basie-orchestra-03-20-2015-809
END:VEVENT

END:VCALENDAR
