BEGIN:VCALENDAR
VERSION:2.0
PRODID:-//ChamberMaster//Event Calendar 2.0//EN
METHOD:PUBLISH
X-PUBLISHED-TTL:P3D
REFRESH-INTERVAL:P3D
CALSCALE:GREGORIAN
BEGIN:VEVENT
DTSTART:20130910T143000Z
DTEND:20130910T163000Z
X-MICROSOFT-CDO-ALLDAYEVENT:FALSE
SUMMARY:The Coming Jobs War
DESCRIPTION:Join us for this invitation-only event as we hear from Dave Kilby\, Executive Vice President\, Corporate Affairs with the California Chamber of Commerce and President of the Western Association of  Chamber Executives.\n\nAccording to the groundbreaking Gallup World Poll\, what people want most is a good job.  It's the counties - and communities - who produce the best jobs that will succeed and lead the rest of the world.  Dave will discuss the ideas set forth by 'The Coming Jobs War\,' the best-selling book by Gallup CEO Jim Clifton\, and shed light on why good jobs matter to all of us.\n\nWHAT CAN LOCAL LEADERS DO TO FUEL FUTURE JOB CREATION?  THE ANSWERS WILL SURPRISE AND HOPEFULLY INSPIRE YOU.  \n\nSeating is limited\, please RSVP no later than Wednesday\, September 4\, 2013.  RSVP to info@stanislauscf.org or call (209) 576-1608.
X-ALT-DESC;FMTTYPE=text/html:Join us for this invitation-only event as we hear from Dave Kilby\, Executive Vice President\, Corporate Affairs with the California Chamber of Commerce and President of the Western Association of  Chamber Executives.\n\nAccording to the groundbreaking Gallup World Poll\, what people want most is a good job.  It's the counties - and communities - who produce the best jobs that will succeed and lead the rest of the world.  Dave will discuss the ideas set forth by 'The Coming Jobs War\,' the best-selling book by Gallup CEO Jim Clifton\, and shed light on why good jobs matter to all of us.\n\nWHAT CAN LOCAL LEADERS DO TO FUEL FUTURE JOB CREATION?  THE ANSWERS WILL SURPRISE AND HOPEFULLY INSPIRE YOU.  \n\nSeating is limited\, please RSVP no later than Wednesday\, September 4\, 2013.  RSVP to info@stanislauscf.org or call (209) 576-1608.\n
LOCATION:Sutter Health/Memorial Medical Center 1700 McHenry Avenue\, Suite 60B Modesto\, CA 95350
UID:e.2695.302
SEQUENCE:3
DTSTAMP:20260423T175121Z
URL:https://business.modchamber.org/events/details/the-coming-jobs-war-09-10-2013-302
END:VEVENT

END:VCALENDAR
