BEGIN:VCALENDAR
VERSION:2.0
PRODID:-//ChamberMaster//Event Calendar 2.0//EN
METHOD:PUBLISH
X-PUBLISHED-TTL:P3D
REFRESH-INTERVAL:P3D
CALSCALE:GREGORIAN
BEGIN:VEVENT
DTSTART:20160213T040000Z
DTEND:20160212T080000Z
X-MICROSOFT-CDO-ALLDAYEVENT:FALSE
SUMMARY:The Comic Strippers
DESCRIPTION:THE COMIC STRIPPERS \nA male stripper parody and improv comedy show \nA SHOW FOR ALL GENDERS… 21+ ONLY \nWARNING! No extreme nudity\, just extreme hilarity. \n\nA fictitious male stripper troupe (played by a cast of some of Canada’s best improvisational comedians) performs a sexylarious improv comedy show. These guys try to be sexy… it just comes out funny. Constantly grooving and gyrating in between scenes they banter with the crowd and perform their hilarious twist on improv sketches. They sing\, they “dance”. These guys are oiled up and ready to make you laugh at them. Semi undressed and completely unscripted\, The Comic Strippers take off their shirts and take on your suggestions to create a whole new genre of comedy.\nContact :	Gallo Center\nPhone :	209-338-2100\nEmail :	\nWeb Site :	galloarts.org
X-ALT-DESC;FMTTYPE=text/html:THE COMIC STRIPPERS \nA male stripper parody and improv comedy show \nA SHOW FOR ALL GENDERS… 21+ ONLY \nWARNING! No extreme nudity\, just extreme hilarity. \n\nA fictitious male stripper troupe (played by a cast of some of Canada’s best improvisational comedians) performs a sexylarious improv comedy show. These guys try to be sexy… it just comes out funny. Constantly grooving and gyrating in between scenes they banter with the crowd and perform their hilarious twist on improv sketches. They sing\, they “dance”. These guys are oiled up and ready to make you laugh at them. Semi undressed and completely unscripted\, The Comic Strippers take off their shirts and take on your suggestions to create a whole new genre of comedy.\nContact :	Gallo Center\nPhone :	209-338-2100\nEmail :	\nWeb Site :	galloarts.org
LOCATION:Gallo Center 1000 I Street Modesto\, CA 95354
UID:e.2695.1450
SEQUENCE:3
DTSTAMP:20260419T164321Z
URL:https://business.modchamber.org/events/details/the-comic-strippers-02-12-2016-1450
END:VEVENT

END:VCALENDAR
