BEGIN:VCALENDAR
VERSION:2.0
PRODID:-//ChamberMaster//Event Calendar 2.0//EN
METHOD:PUBLISH
X-PUBLISHED-TTL:P3D
REFRESH-INTERVAL:P3D
CALSCALE:GREGORIAN
BEGIN:VEVENT
DTSTART:20160409T020000Z
DTEND:20160409T043000Z
X-MICROSOFT-CDO-ALLDAYEVENT:FALSE
SUMMARY:The BOB & TOM Show Comedy Show
DESCRIPTION:Doors at 6 p.m. and 9 p.m.\nThe Friends of The BOB & TOM Show Comedy Tour is returning to The State with an ensemble of the show’s most popular comics. One of the longest-running and highest-rated radio programs in America\, BOB & TOM is bringing Ralph Harris (ralphharris.com)\, Greg Hahn (greghahn.com)\, Bob Zany (bobzany.com) and Dave Dyer (daviddyercomedy.com) to Modesto for two shows.\nRalph Harris has appeared on “Seinfeld\,” “Parenthood\,” “Living Single\,” “The Tonight Show Starring Jay Leno” and “Late Night with Conan O’Brien\,” but is probably best known for his starring role in the ABC-TV sitcom “On Our Own.” Greg Hahn\, who has appeared on “Late Night with Conan O’Brien” and “Comedy Central” has parlayed his absurdly energetic\, physical humor\, one liners and crowd work into a performance of pandemonium and fun. Bob Zany\, who started his career in 1977 at the age of 15 on the infamous Gong Show\, and who 11 years later became a celebrity judge\, has been a host of his own Saturday show on the popular KLOS/LA. His other accomplishments include a 175-lb. weight loss in 1991\, and being hired by his idol\, Steve Martin\, to appear on George Burns' Comedy Week. David Dyer has been doing stand-up for over 19 years\, and has worked with Drew Carey\, Lewis Black\, and Kathleen Madigan\, plus he’s been a contributing writer to NBC’s “Late Night with Jimmy Fallon” and “ABC’s Politically Incorrect.”\nThis show is recommended for those 18 years old and older.\nTickets are $29 and $35\n$1 from each ticket purchased will be donated to the American Red Cross\nContact : 	State Theatre\nPhone : 	BOX OFFICE (209) 527-4697\nEmail : 	\nWeb Site : 	thestate.org
X-ALT-DESC;FMTTYPE=text/html:Doors at 6 p.m. and 9 p.m.\nThe Friends of The BOB & TOM Show Comedy Tour is returning to The State with an ensemble of the show’s most popular comics. One of the longest-running and highest-rated radio programs in America\, BOB & TOM is bringing Ralph Harris (ralphharris.com)\, Greg Hahn (greghahn.com)\, Bob Zany (bobzany.com) and Dave Dyer (daviddyercomedy.com) to Modesto for two shows.\nRalph Harris has appeared on “Seinfeld\,” “Parenthood\,” “Living Single\,” “The Tonight Show Starring Jay Leno” and “Late Night with Conan O’Brien\,” but is probably best known for his starring role in the ABC-TV sitcom “On Our Own.” Greg Hahn\, who has appeared on “Late Night with Conan O’Brien” and “Comedy Central” has parlayed his absurdly energetic\, physical humor\, one liners and crowd work into a performance of pandemonium and fun. Bob Zany\, who started his career in 1977 at the age of 15 on the infamous Gong Show\, and who 11 years later became a celebrity judge\, has been a host of his own Saturday show on the popular KLOS/LA. His other accomplishments include a 175-lb. weight loss in 1991\, and being hired by his idol\, Steve Martin\, to appear on George Burns' Comedy Week. David Dyer has been doing stand-up for over 19 years\, and has worked with Drew Carey\, Lewis Black\, and Kathleen Madigan\, plus he’s been a contributing writer to NBC’s “Late Night with Jimmy Fallon” and “ABC’s Politically Incorrect.”\nThis show is recommended for those 18 years old and older.\nTickets are $29 and $35\n$1 from each ticket purchased will be donated to the American Red Cross\nContact : 	State Theatre\nPhone : 	BOX OFFICE (209) 527-4697\nEmail : 	\nWeb Site : 	thestate.org
LOCATION:State Theatre 1307 J Street Modesto\, CA 95354
UID:e.2695.1577
SEQUENCE:3
DTSTAMP:20260419T152733Z
URL:https://business.modchamber.org/events/details/the-bob-tom-show-comedy-show-04-08-2016-1577
END:VEVENT

END:VCALENDAR
