BEGIN:VCALENDAR
VERSION:2.0
PRODID:-//ChamberMaster//Event Calendar 2.0//EN
METHOD:PUBLISH
X-PUBLISHED-TTL:P3D
REFRESH-INTERVAL:P3D
CALSCALE:GREGORIAN
BEGIN:VEVENT
DTSTART:20150312T023000Z
DTEND:20150311T070000Z
X-MICROSOFT-CDO-ALLDAYEVENT:FALSE
SUMMARY:The Australian Bee Gee Show
DESCRIPTION:From the producers of such terrific shows as RAIN: A Tribute to The Beatles and PFX – The Pink Floyd Experience\, it’s The Australian Bee Gees Show\, a celebration of one of the most influential and famous musical groups of all time. This is a multimedia theatrical concert experience that takes a nostalgic trip through infectious music written by the Gibb brothers—from the early hits (“Massachusetts\,” “To Love Somebody”) to later classics (“Stayin’ Alive\,” “You Should Be Dancin’”). Relive your favorite Bee Gees moments and memories!\nContact :	Gallo Center\nPhone :	209-338-2100\nEmail :	\nWeb Site :	galloarts.org
X-ALT-DESC;FMTTYPE=text/html:From the producers of such terrific shows as RAIN: A Tribute to The Beatles and PFX – The Pink Floyd Experience\, it’s The Australian Bee Gees Show\, a celebration of one of the most influential and famous musical groups of all time. This is a multimedia theatrical concert experience that takes a nostalgic trip through infectious music written by the Gibb brothers—from the early hits (“Massachusetts\,” “To Love Somebody”) to later classics (“Stayin’ Alive\,” “You Should Be Dancin’”). Relive your favorite Bee Gees moments and memories!\nContact :	Gallo Center\nPhone :	209-338-2100\nEmail :	\nWeb Site :	galloarts.org
LOCATION:Gallo Center 1000 I Street Modesto\, CA 95351
UID:e.2695.633
SEQUENCE:3
DTSTAMP:20260420T074020Z
URL:https://business.modchamber.org/events/details/the-australian-bee-gee-show-03-11-2015-633
END:VEVENT

END:VCALENDAR
