BEGIN:VCALENDAR
VERSION:2.0
PRODID:-//ChamberMaster//Event Calendar 2.0//EN
METHOD:PUBLISH
X-PUBLISHED-TTL:P3D
REFRESH-INTERVAL:P3D
CALSCALE:GREGORIAN
BEGIN:VEVENT
DTSTART:20160421T023000Z
DTEND:20160420T070000Z
X-MICROSOFT-CDO-ALLDAYEVENT:FALSE
SUMMARY:The Ann Wilson Thing
DESCRIPTION:Ann Wilson’s musical gifts are legendary. As a songwriter and lyricist\, she has created a truly impressive body of work (“Crazy on You\,” “Barracuda\,” “Magic Man\,” “Dog & Butterfly\,” “Straight On\,” “Even it Up\,” “Mistral Wind\,” and many more). However\, her greatest gift\, and first “calling\,” is singing. Her voice is considered to be among the best ever\, with its vast range\, amazing power and sheer musicality. It has inspired legions of great singers\, across every genre of music. Ever since their debut album\, “Dreamboat Annie\,” Ann has been performing with her equally talented sister\, Nancy Wilson\, as Heart\, thrilling hundreds of thousands of concert fans annually. Now it’s time for Ann to do something she’s always dreamed of\, and stretch out as a singer performing things not in the heart-shaped box. This is a chance for Heart fans to add something a little different to their musical lives. “The Ann Wilson Thing” won’t replace Heart\, and no Heart songs will be performed\, but Ann and her band mates will offer a new experience for Heart's existing fans\, as well as for new fans who love blues with a rock edge.\nContact : 	Gallo Center\nPhone : 	209-338-2100\nEmail : 	\nWeb Site : 	galloarts.org
X-ALT-DESC;FMTTYPE=text/html:Ann Wilson’s musical gifts are legendary. As a songwriter and lyricist\, she has created a truly impressive body of work (“Crazy on You\,” “Barracuda\,” “Magic Man\,” “Dog & Butterfly\,” “Straight On\,” “Even it Up\,” “Mistral Wind\,” and many more). However\, her greatest gift\, and first “calling\,” is singing. Her voice is considered to be among the best ever\, with its vast range\, amazing power and sheer musicality. It has inspired legions of great singers\, across every genre of music. Ever since their debut album\, “Dreamboat Annie\,” Ann has been performing with her equally talented sister\, Nancy Wilson\, as Heart\, thrilling hundreds of thousands of concert fans annually. Now it’s time for Ann to do something she’s always dreamed of\, and stretch out as a singer performing things not in the heart-shaped box. This is a chance for Heart fans to add something a little different to their musical lives. “The Ann Wilson Thing” won’t replace Heart\, and no Heart songs will be performed\, but Ann and her band mates will offer a new experience for Heart's existing fans\, as well as for new fans who love blues with a rock edge.\nContact : 	Gallo Center\nPhone : 	209-338-2100\nEmail : 	\nWeb Site : 	galloarts.org
LOCATION:Gallo Center 1000 I Street Modesto\, CA 95354
UID:e.2695.1622
SEQUENCE:3
DTSTAMP:20260419T140954Z
URL:https://business.modchamber.org/events/details/the-ann-wilson-thing-04-20-2016-1622
END:VEVENT

END:VCALENDAR
