BEGIN:VCALENDAR
VERSION:2.0
PRODID:-//ChamberMaster//Event Calendar 2.0//EN
METHOD:PUBLISH
X-PUBLISHED-TTL:P3D
REFRESH-INTERVAL:P3D
CALSCALE:GREGORIAN
BEGIN:VEVENT
DTSTART:20160506T150000Z
DTEND:20160506T200000Z
X-MICROSOFT-CDO-ALLDAYEVENT:FALSE
SUMMARY:The Age with Movement Celebration-Healthy Aging Association
DESCRIPTION:Kick-off for Older Americans Month!\nIt is a FREE event!\nRegistration is FREE.\nRaise $20.00 to earn an event t-shirt. Upon entering the event\, you will also receive an insulated bag.\nWalking: we have two start time for early and late risers. The first walk starts at 8:00 a.m. and the second walk starts at 10:00 a.m.\nWalk anywhere from a half a mile to three miles.\nHelp Support the Free Young at Heart Fitness Classes in Stanislaus County & Ripon\n1) Raise funds to reach your fundraising goal\nContribute your own $10.00\nAsk members of your group to donate $10.00\nAsk your spouse/partner for $20.00\nAsk at least 3 relatives for $20.00\n\n2) Collect Raffle Prizes \nGift Certificates from your favorite restaurant\nCreate your own raffle basket (i.e. dinner basket\, relaxation basket\, etc.)\nAsk your favorite local store for a raffle item\nAsk members of your group(s) to collect raffle items\n\n3) Sell Raffle Tickets (cash\, checks\, or by credit card)\nYou do not need to be present to win!\n$1.00 per ticket\n$5.00 for 6 tickets\n$10.00 for 15 tickets\nContact :	Healthy Aging Association\nPhone :	(209)523-2800\nEmail :	\nWeb Site :	www.healthyagingassociation.org
X-ALT-DESC;FMTTYPE=text/html:Kick-off for Older Americans Month!\nIt is a FREE event!\nRegistration is FREE.\nRaise $20.00 to earn an event t-shirt. Upon entering the event\, you will also receive an insulated bag.\nWalking: we have two start time for early and late risers. The first walk starts at 8:00 a.m. and the second walk starts at 10:00 a.m.\nWalk anywhere from a half a mile to three miles.\nHelp Support the Free Young at Heart Fitness Classes in Stanislaus County & Ripon\n1) Raise funds to reach your fundraising goal\nContribute your own $10.00\nAsk members of your group to donate $10.00\nAsk your spouse/partner for $20.00\nAsk at least 3 relatives for $20.00\n\n2) Collect Raffle Prizes \nGift Certificates from your favorite restaurant\nCreate your own raffle basket (i.e. dinner basket\, relaxation basket\, etc.)\nAsk your favorite local store for a raffle item\nAsk members of your group(s) to collect raffle items\n\n3) Sell Raffle Tickets (cash\, checks\, or by credit card)\nYou do not need to be present to win!\n$1.00 per ticket\n$5.00 for 6 tickets\n$10.00 for 15 tickets\nContact :	Healthy Aging Association\nPhone :	(209)523-2800\nEmail :	\nWeb Site :	www.healthyagingassociation.org
LOCATION:East La Loma Park 2001 Edgebrook Drive Modesto\, CA 95350
UID:e.2695.1496
SEQUENCE:3
DTSTAMP:20260419T125140Z
URL:https://business.modchamber.org/events/details/the-age-with-movement-celebration-healthy-aging-association-05-06-2016-1496
END:VEVENT

END:VCALENDAR
