BEGIN:VCALENDAR
VERSION:2.0
PRODID:-//ChamberMaster//Event Calendar 2.0//EN
METHOD:PUBLISH
X-PUBLISHED-TTL:P3D
REFRESH-INTERVAL:P3D
CALSCALE:GREGORIAN
BEGIN:VEVENT
DTSTART:20150501T150000Z
DTEND:20150501T070000Z
X-MICROSOFT-CDO-ALLDAYEVENT:FALSE
SUMMARY:The Age with Movement Celebration
DESCRIPTION:It is a FREE event!\nRegistration is FREE.\nEvent t-shirts are only $20.00.\nWalking: we have two start time for early and late risers. The first walk starts at 8:00 a.m. and the second walk starts at 11:00 a.m.\nWalk anywhere from a half a mile to three miles.\n\nContact :	Healthy Aging Association\nPhone :	(209)523-2800\nEmail :	\nWeb Site :	www.healthyagingassociation.org
X-ALT-DESC;FMTTYPE=text/html:It is a FREE event!\nRegistration is FREE.\nEvent t-shirts are only $20.00.\nWalking: we have two start time for early and late risers. The first walk starts at 8:00 a.m. and the second walk starts at 11:00 a.m.\nWalk anywhere from a half a mile to three miles.\n\nContact :	Healthy Aging Association\nPhone :	(209)523-2800\nEmail :	\nWeb Site :	www.healthyagingassociation.org
LOCATION:Healthy Aging Association
UID:e.2695.902
SEQUENCE:3
DTSTAMP:20260420T045339Z
URL:https://business.modchamber.org/events/details/the-age-with-movement-celebration-05-01-2015-902
END:VEVENT

END:VCALENDAR
