BEGIN:VCALENDAR
VERSION:2.0
PRODID:-//ChamberMaster//Event Calendar 2.0//EN
METHOD:PUBLISH
X-PUBLISHED-TTL:P3D
REFRESH-INTERVAL:P3D
CALSCALE:GREGORIAN
BEGIN:VEVENT
DTSTART:20141113T170000Z
DTEND:20141113T190000Z
X-MICROSOFT-CDO-ALLDAYEVENT:FALSE
SUMMARY:THE ABC FORMULA OF LEADERSHIP WORKSHOP
DESCRIPTION:The CHALLENGES Todays Business Leaders Face Are Greater Than Ever Before and the Demands on “Their Time” may be the toughest of all.  Mastering the Core Competency of Strategizing\, Planning and Execution is critical to managing that Challenge.    Most people move into leadership roles based on one of 3 Tracks that do nothing to prepare them to lead.  Becoming a leader requires the mastery of 6 Core Skill Sets and Strategizing\, Planning & Execution is one of them.         The ABC FORMULA OF LEADERSHIPTM has prepared and developed leaders for many years and is offering a rare opportunity to see why in a “Test Drive” extracted from our actual leadership course.  We will cover 3 important topics:   How to Identify and Coach Talent:  ·        how important it is to get the right people in the right position\;·        the cost of replacing people in an organization\; and ·        the Key things we look for when we add a new person to the team.   This application alone will be worth the entire meeting by itself.  Your people will have key actions to follow through with that will change the way you approach recruiting and hiring. Next\, we’ll shift to the importance of customer service. We’ll look at:·        important customer service statistics\;·        calculate the lifetime $ value of your customers\; and·        how to discover the things we need to take care of to form positive impressions with each and every one of your customers. This application will include a consensus decision-making process that shows how your team can go from a blank sheet of paper to prioritizing their follow through actions in a short period of time. They’ll be able to use it for ongoing problem-solving or what we call solution-finding! That application is often the biggest takeaway with huge value for ongoing use. Here’s what a few of our client’s say have said about our leadership program…………. “I found this program to be the best overall leadership development program I have ever participated in.”  Tom York\, Services Unit Manager IBM Global Services Division “You have raised the standard to new heights. Our people are more excited and dedicated than I would have imagined.”Hank Barrett\, CEO\, Valley First Credit Union “I would like to recommend the… series to any professional organization that is looking to develop their staff’s managerial skills and in turn\, the skills of their company. The course materials are very pertinent for today’s manager.”David Olson\, Director of OperationsOCAT\, Inc. - Taco Bell Franchise For more information\, please contact Barney Kramer\, President\, Strategic Management/Advanced Business Solutions\, Inc.\, at 209 444.6549\, or barney@smra1.com. www.smra1.com~www.absinc.org.
X-ALT-DESC;FMTTYPE=text/html:<DIV style="FONT-FAMILY: Arial"><P class=MsoNormal style="MARGIN: 2.6pt 0in 0pt\; TEXT-INDENT: 0.5in"><SPAN style="FONT-SIZE: 10pt\; FONT-FAMILY: 'Century Schoolbook'\,serif\; mso-hansi-font-family: Calibri\; mso-hansi-theme-font: minor-latin">The <SPAN style="COLOR: red">CHALLENGES</SPAN> Todays Business Leaders Face Are Greater Than Ever Before and the Demands on </SPAN><SPAN style="FONT-SIZE: 10pt\; mso-ascii-font-family: 'Century Schoolbook'"><FONT face=Calibri>“</FONT></SPAN><SPAN style="FONT-SIZE: 10pt\; FONT-FAMILY: 'Century Schoolbook'\,serif\; mso-hansi-font-family: Calibri\; mso-hansi-theme-font: minor-latin">Their Time</SPAN><SPAN style="FONT-SIZE: 10pt\; mso-ascii-font-family: 'Century Schoolbook'"><FONT face=Calibri>”</FONT></SPAN><SPAN style="FONT-SIZE: 10pt\; FONT-FAMILY: 'Century Schoolbook'\,serif\; mso-hansi-font-family: Calibri\; mso-hansi-theme-font: minor-latin"> may be the <B style="mso-bidi-font-weight: normal"><I style="mso-bidi-font-style: normal"><U>toughest of all</U></I></B>.<SPAN style="mso-spacerun: yes">&nbsp\; </SPAN><B style="mso-bidi-font-weight: normal"><SPAN style="COLOR: red">Mastering the Core Competency of Strategizing\, Planning and Execution</SPAN></B> is critical to managing that Challenge.<SPAN style="mso-spacerun: yes">&nbsp\; </SPAN><SPAN style="mso-spacerun: yes">&nbsp\;&nbsp\;</SPAN><?xml:namespace prefix = o ns = "urn:schemas-microsoft-com:office:office" /><o:p></o:p></SPAN></P><P class=MsoNormal style="MARGIN: 2.6pt 0in 0pt\; TEXT-INDENT: 0.5in"><SPAN style="FONT-SIZE: 10pt\; FONT-FAMILY: 'Century Schoolbook'\,serif\; mso-fareast-font-family: 'Century Schoolbook'\; mso-bidi-font-family: 'Century Schoolbook'">Most people move into leadership roles based on one of <B style="mso-bidi-font-weight: normal">3 Tracks</B> that do nothing to prepare them to lead.<SPAN style="mso-spacerun: yes">&nbsp\; </SPAN>Becoming a leader requires the mastery of 6 Core Skill Sets and Strategizing\, Planning &amp\; Execution is one of them.<SPAN style="mso-spacerun: yes">&nbsp\; </SPAN><SPAN style="mso-spacerun: yes">&nbsp\;&nbsp\;</SPAN><I style="mso-bidi-font-style: normal"><SPAN style="COLOR: red"><SPAN style="mso-spacerun: yes">&nbsp\;&nbsp\;&nbsp\;</SPAN></SPAN></I><SPAN style="COLOR: red"><SPAN style="mso-spacerun: yes">&nbsp\;&nbsp\;</SPAN></SPAN><o:p></o:p></SPAN></P><P class=MsoNormal style="MARGIN: 2.6pt 0in 0pt\; TEXT-INDENT: 0.5in"><SPAN style="FONT-SIZE: 10pt\; FONT-FAMILY: 'Century Schoolbook'\,serif\; mso-fareast-font-family: 'Century Schoolbook'\; mso-bidi-font-family: 'Century Schoolbook'">The ABC FORMULA OF LEADERSHIP<SUP>TM </SUP>has prepared and developed leaders for many years and is offering a rare opportunity to see why in a “Test Drive” extracted from our actual leadership course. <o:p></o:p></SPAN></P><P class=MsoNormal style="MARGIN: 2.6pt 0in 0pt\; TEXT-INDENT: 0.5in"><SPAN style="FONT-SIZE: 10pt\; FONT-FAMILY: 'Century Schoolbook'\,serif\; mso-fareast-font-family: 'Century Schoolbook'\; mso-bidi-font-family: 'Century Schoolbook'"><o:p>&nbsp\;</o:p></SPAN></P><P class=MsoNormal style="MARGIN: 2.6pt 0in 0pt\; TEXT-INDENT: 0.5in"><B style="mso-bidi-font-weight: normal"><SPAN style="FONT-SIZE: 10pt\; FONT-FAMILY: 'Century Schoolbook'\,serif\; mso-fareast-font-family: 'Century Schoolbook'\; mso-bidi-font-family: 'Century Schoolbook'">We will</SPAN></B><SPAN style="FONT-SIZE: 10pt\; FONT-FAMILY: 'Century Schoolbook'\,serif\; mso-fareast-font-family: 'Century Schoolbook'\; mso-bidi-font-family: 'Century Schoolbook'"> <B style="mso-bidi-font-weight: normal">cover 3 important topics:</B> <SPAN style="mso-spacerun: yes">&nbsp\;</SPAN><SPAN style="mso-spacerun: yes">&nbsp\;</SPAN><o:p></o:p></SPAN></P><P class=MsoNormal style="MARGIN: 0in 0in 0pt\; TEXT-INDENT: 0.25in"><B><SPAN style="FONT-SIZE: 10pt\; FONT-FAMILY: 'Century Schoolbook'\,serif\; mso-bidi-font-family: Arial">How to Identify and Coach Talent: <SPAN style="mso-spacerun: yes">&nbsp\;</SPAN><o:p></o:p></SPAN></B></P><P class=MsoListParagraph style="MARGIN: 0in 0in 0pt 0.5in\; TEXT-INDENT: -0.25in\; mso-list: l1 level1 lfo1"><SPAN style="FONT-SIZE: 10pt\; FONT-FAMILY: Symbol\; mso-bidi-font-weight: bold\; mso-fareast-font-family: Symbol\; mso-bidi-font-family: Symbol"><SPAN style="mso-list: Ignore">·<SPAN style="FONT: 7pt 'Times New Roman'">&nbsp\;&nbsp\;&nbsp\;&nbsp\;&nbsp\;&nbsp\;&nbsp\; </SPAN></SPAN></SPAN><SPAN style="FONT-SIZE: 10pt\; FONT-FAMILY: 'Century Schoolbook'\,serif\; mso-bidi-font-weight: bold\; mso-bidi-font-family: Arial">how important it is to get the right people in the right position\;<o:p></o:p></SPAN></P><P class=MsoListParagraph style="MARGIN: 0in 0in 0pt 0.5in\; TEXT-INDENT: -0.25in\; mso-list: l1 level1 lfo1"><SPAN style="FONT-SIZE: 10pt\; FONT-FAMILY: Symbol\; mso-bidi-font-weight: bold\; mso-fareast-font-family: Symbol\; mso-bidi-font-family: Symbol"><SPAN style="mso-list: Ignore">·<SPAN style="FONT: 7pt 'Times New Roman'">&nbsp\;&nbsp\;&nbsp\;&nbsp\;&nbsp\;&nbsp\;&nbsp\; </SPAN></SPAN></SPAN><SPAN style="FONT-SIZE: 10pt\; FONT-FAMILY: 'Century Schoolbook'\,serif\; mso-bidi-font-weight: bold\; mso-bidi-font-family: Arial">the cost of replacing people in an organization\; and <o:p></o:p></SPAN></P><P class=MsoListParagraph style="MARGIN: 0in 0in 0pt 0.5in\; TEXT-INDENT: -0.25in\; mso-list: l1 level1 lfo1"><SPAN style="FONT-SIZE: 10pt\; FONT-FAMILY: Symbol\; mso-bidi-font-weight: bold\; mso-fareast-font-family: Symbol\; mso-bidi-font-family: Symbol"><SPAN style="mso-list: Ignore">·<SPAN style="FONT: 7pt 'Times New Roman'">&nbsp\;&nbsp\;&nbsp\;&nbsp\;&nbsp\;&nbsp\;&nbsp\; </SPAN></SPAN></SPAN><SPAN style="FONT-SIZE: 10pt\; FONT-FAMILY: 'Century Schoolbook'\,serif\; mso-bidi-font-weight: bold\; mso-bidi-font-family: Arial">the Key things we look for when we add a new person to the team.<SPAN style="mso-spacerun: yes">&nbsp\; </SPAN><o:p></o:p></SPAN></P><P class=MsoNormal style="MARGIN: 0in 0in 0pt\; TEXT-INDENT: 0.25in"><B><SPAN style="FONT-SIZE: 10pt\; FONT-FAMILY: 'Century Schoolbook'\,serif\; mso-bidi-font-family: Arial"><o:p>&nbsp\;</o:p></SPAN></B></P><P class=MsoNormal style="MARGIN: 0in 0in 0pt\; TEXT-INDENT: 0.5in"><B><SPAN style="FONT-SIZE: 10pt\; FONT-FAMILY: 'Century Schoolbook'\,serif\; mso-bidi-font-family: Arial">This application alone will be worth the entire meeting by itself.<SPAN style="mso-spacerun: yes">&nbsp\; </SPAN>Your </SPAN></B><SPAN style="FONT-SIZE: 10pt\; FONT-FAMILY: 'Century Schoolbook'\,serif\; mso-bidi-font-weight: bold\; mso-bidi-font-family: Arial">people will have key actions to follow through with that will change the way you approach recruiting and hiring.<o:p></o:p></SPAN></P><P class=MsoNormal style="MARGIN: 0in 0in 0pt"><SPAN style="FONT-SIZE: 10pt\; FONT-FAMILY: 'Century Schoolbook'\,serif\; mso-bidi-font-weight: bold\; mso-bidi-font-family: Arial"><o:p>&nbsp\;</o:p></SPAN></P><P class=MsoNormal style="MARGIN: 0in 0in 0pt\; TEXT-INDENT: 0.5in"><B><SPAN style="FONT-SIZE: 10pt\; FONT-FAMILY: 'Century Schoolbook'\,serif\; mso-bidi-font-family: Arial">Next\, we’ll shift to the importance of customer service.</SPAN></B><SPAN style="FONT-SIZE: 10pt\; FONT-FAMILY: 'Century Schoolbook'\,serif\; mso-bidi-font-weight: bold\; mso-bidi-font-family: Arial"> We’ll look at:<o:p></o:p></SPAN></P><P class=MsoListParagraph style="MARGIN: 0in 0in 0pt 0.5in\; TEXT-INDENT: -0.25in\; mso-list: l0 level1 lfo2"><SPAN style="FONT-SIZE: 10pt\; FONT-FAMILY: Symbol\; mso-bidi-font-weight: bold\; mso-fareast-font-family: Symbol\; mso-bidi-font-family: Symbol"><SPAN style="mso-list: Ignore">·<SPAN style="FONT: 7pt 'Times New Roman'">&nbsp\;&nbsp\;&nbsp\;&nbsp\;&nbsp\;&nbsp\;&nbsp\; </SPAN></SPAN></SPAN><SPAN style="FONT-SIZE: 10pt\; FONT-FAMILY: 'Century Schoolbook'\,serif\; mso-bidi-font-weight: bold\; mso-bidi-font-family: Arial">important customer service statistics\;<o:p></o:p></SPAN></P><P class=MsoListParagraph style="MARGIN: 0in 0in 0pt 0.5in\; TEXT-INDENT: -0.25in\; mso-list: l0 level1 lfo2"><SPAN style="FONT-SIZE: 10pt\; FONT-FAMILY: Symbol\; mso-bidi-font-weight: bold\; mso-fareast-font-family: Symbol\; mso-bidi-font-family: Symbol"><SPAN style="mso-list: Ignore">·<SPAN style="FONT: 7pt 'Times New Roman'">&nbsp\;&nbsp\;&nbsp\;&nbsp\;&nbsp\;&nbsp\;&nbsp\; </SPAN></SPAN></SPAN><SPAN style="FONT-SIZE: 10pt\; FONT-FAMILY: 'Century Schoolbook'\,serif\; mso-bidi-font-weight: bold\; mso-bidi-font-family: Arial">calculate the lifetime $ value of your customers\; and<o:p></o:p></SPAN></P><P class=MsoListParagraph style="MARGIN: 0in 0in 0pt 0.5in\; TEXT-INDENT: -0.25in\; mso-list: l0 level1 lfo2"><SPAN style="FONT-SIZE: 10pt\; FONT-FAMILY: Symbol\; mso-bidi-font-weight: bold\; mso-fareast-font-family: Symbol\; mso-bidi-font-family: Symbol"><SPAN style="mso-list: Ignore">·<SPAN style="FONT: 7pt 'Times New Roman'">&nbsp\;&nbsp\;&nbsp\;&nbsp\;&nbsp\;&nbsp\;&nbsp\; </SPAN></SPAN></SPAN><SPAN style="FONT-SIZE: 10pt\; FONT-FAMILY: 'Century Schoolbook'\,serif\; mso-bidi-font-weight: bold\; mso-bidi-font-family: Arial">how to discover the <B>things we need to take care of to form positive impressions </B>with each and every one of your customers.<o:p></o:p></SPAN></P><P class=MsoNormal style="MARGIN: 0in 0in 0pt"><SPAN style="FONT-SIZE: 10pt\; FONT-FAMILY: 'Century Schoolbook'\,serif\; mso-bidi-font-weight: bold\; mso-bidi-font-family: Arial"><o:p>&nbsp\;</o:p></SPAN></P><P class=MsoNormal style="MARGIN: 0in 0in 0pt\; TEXT-INDENT: 0.25in"><SPAN style="FONT-SIZE: 10pt\; FONT-FAMILY: 'Century Schoolbook'\,serif\; mso-bidi-font-weight: bold\; mso-bidi-font-family: Arial">This <B>application will include a consensus decision-making process that shows how your team can go from a blank sheet of paper to prioritizing their follow through actions in a short period of time. </B>They’ll <B>be able to use it for ongoing problem-solving or what we call solution-finding!</B> That application is often the biggest takeaway with huge value for ongoing use.<o:p></o:p></SPAN></P><P class=MsoNormal style="MARGIN: 0in 0in 0pt"><SPAN style="FONT-SIZE: 10pt\; FONT-FAMILY: 'Century Schoolbook'\,serif\; mso-bidi-font-weight: bold\; mso-bidi-font-family: Arial"><o:p>&nbsp\;</o:p></SPAN></P><P class=MsoNormal style="MARGIN: 2.6pt 0in 0pt"><SPAN style="FONT-SIZE: 10pt\; FONT-FAMILY: 'Century Schoolbook'\,serif\; mso-fareast-font-family: 'Century Schoolbook'\; mso-bidi-font-family: 'Century Schoolbook'">Here’s what a few of our client’s say have said about our leadership program………….<o:p></o:p></SPAN></P><P class=MsoNormal style="MARGIN: 2.6pt 0in 0pt\; TEXT-INDENT: 5.1pt"><SPAN style="FONT-SIZE: 10pt\; FONT-FAMILY: 'Century Schoolbook'\,serif\; mso-fareast-font-family: 'Century Schoolbook'\; mso-bidi-font-family: 'Century Schoolbook'"><o:p>&nbsp\;</o:p></SPAN></P><P class=MsoNormal style="MARGIN: 0in 0in 0pt 0.5in\; mso-pagination: widow-orphan\; mso-layout-grid-align: none"><I><SPAN style="FONT-FAMILY: 'Arial'\,sans-serif">“I found this program to be the best overall leadership development program I have ever participated in.” <SPAN style="mso-spacerun: yes">&nbsp\;</SPAN><o:p></o:p></SPAN></I></P><P class=MsoNormal style="MARGIN: 0in 0in 0pt\; TEXT-INDENT: 0.5in\; mso-pagination: widow-orphan\; mso-layout-grid-align: none"><SPAN style="FONT-FAMILY: 'Arial'\,sans-serif">Tom York\, Services Unit Manager IBM Global Services Division</SPAN><SPAN style="FONT-FAMILY: 'Century Schoolbook'\,serif\; mso-fareast-font-family: 'Century Schoolbook'\; mso-bidi-font-family: 'Century Schoolbook'"><o:p></o:p></SPAN></P><P class=MsoNormal style="MARGIN: 0in 0in 0pt\; mso-pagination: widow-orphan\; mso-layout-grid-align: none"><I><SPAN style="FONT-FAMILY: 'Arial'\,sans-serif"><o:p>&nbsp\;</o:p></SPAN></I></P><P class=MsoNormal style="MARGIN: 0in 0in 0pt 0.5in\; mso-pagination: widow-orphan\; mso-layout-grid-align: none"><I><SPAN style="FONT-FAMILY: 'Arial'\,sans-serif">“You have raised the standard to new heights. Our people are more excited and dedicated than I would have imagined.”<o:p></o:p></SPAN></I></P><P class=MsoNormal style="MARGIN: 0in 0in 0pt\; TEXT-INDENT: 0.5in\; mso-pagination: widow-orphan\; mso-layout-grid-align: none"><SPAN style="FONT-FAMILY: 'Arial'\,sans-serif">Hank Barrett\, CEO\, Valley First Credit Union<o:p></o:p></SPAN></P><P class=MsoNormal style="MARGIN: 0in 0in 0pt\; mso-pagination: widow-orphan\; mso-layout-grid-align: none"><I><SPAN style="FONT-FAMILY: 'Arial'\,sans-serif"><o:p>&nbsp\;</o:p></SPAN></I></P><P class=MsoNormal style="MARGIN: 0in 0in 0pt 0.5in\; mso-pagination: widow-orphan\; mso-layout-grid-align: none"><I><SPAN style="FONT-FAMILY: 'Arial'\,sans-serif">“I would like to recommend the… series to any professional organization that is looking to develop their staff’s managerial skills and in turn\, the skills of their company. The course materials are very pertinent for today’s manager.”<o:p></o:p></SPAN></I></P><P class=MsoNormal style="MARGIN: 0in 0in 0pt\; TEXT-INDENT: 0.5in\; mso-pagination: widow-orphan\; mso-layout-grid-align: none"><SPAN style="FONT-FAMILY: 'Arial'\,sans-serif">David Olson\, Director of Operations<o:p></o:p></SPAN></P><P class=MsoNormal style="MARGIN: 0in 0in 0pt\; TEXT-INDENT: 0.5in\; mso-pagination: widow-orphan\; mso-layout-grid-align: none"><SPAN style="FONT-FAMILY: 'Arial'\,sans-serif">OCAT\, Inc. - Taco Bell Franchise<o:p></o:p></SPAN></P><P class=MsoNormal style="MARGIN: 0in 0in 0pt\; TEXT-INDENT: 0.5in\; mso-pagination: widow-orphan\; mso-layout-grid-align: none"><SPAN style="FONT-SIZE: 10pt\; FONT-FAMILY: 'Century Schoolbook'\,serif\; mso-hansi-font-family: Helvetica"></SPAN>&nbsp\;</P><P class=MsoNormal style="MARGIN: 0in 0in 0pt\; TEXT-INDENT: 0.5in\; mso-pagination: widow-orphan\; mso-layout-grid-align: none"><SPAN style="FONT-SIZE: 10pt\; FONT-FAMILY: 'Century Schoolbook'\,serif\; mso-hansi-font-family: Helvetica">For more information\, please contact </SPAN><B style="mso-bidi-font-weight: normal"><SPAN style="FONT-SIZE: 10pt\; FONT-FAMILY: 'Century Schoolbook'\,serif\; mso-fareast-font-family: 'Century Schoolbook'\; mso-bidi-font-family: 'Century Schoolbook'">Barney Kramer\, President\, Strategic Management/Advanced Business Solutions\, Inc.\, at 209 444.6549\, or </SPAN></B><A href="mailto:barney@smra1.com"><B style="mso-bidi-font-weight: normal"><SPAN style="FONT-SIZE: 10pt\; FONT-FAMILY: 'Century Schoolbook'\,serif\; mso-fareast-font-family: 'Century Schoolbook'\; mso-bidi-font-family: 'Century Schoolbook'">barney@smra1.com</SPAN></B></A><B style="mso-bidi-font-weight: normal"><SPAN style="FONT-SIZE: 10pt\; FONT-FAMILY: 'Century Schoolbook'\,serif\; mso-fareast-font-family: 'Century Schoolbook'\; mso-bidi-font-family: 'Century Schoolbook'">. </SPAN></B><A href="http://www.smra1.com~www.absinc.org"><B style="mso-bidi-font-weight: normal"><SPAN style="FONT-SIZE: 10pt\; FONT-FAMILY: 'Century Schoolbook'\,serif\; mso-fareast-font-family: 'Century Schoolbook'\; mso-bidi-font-family: 'Century Schoolbook'">www.smra1.com~www.absinc.org</SPAN></B></A><B style="mso-bidi-font-weight: normal"><SPAN style="FONT-SIZE: 10pt\; FONT-FAMILY: 'Century Schoolbook'\,serif\; mso-fareast-font-family: 'Century Schoolbook'\; mso-bidi-font-family: 'Century Schoolbook'">.<SPAN style="mso-spacerun: yes">&nbsp\; </SPAN></SPAN></B><o:p></o:p></P></DIV>
LOCATION:Modesto Chamber of Commerce 1114 J. Street Modesto\, CA 95354
UID:e.2695.588
SEQUENCE:3
DTSTAMP:20260422T154302Z
URL:https://business.modchamber.org/events/details/the-abc-formula-of-leadership-workshop-11-13-2014-588
END:VEVENT

END:VCALENDAR
