BEGIN:VCALENDAR
VERSION:2.0
PRODID:-//ChamberMaster//Event Calendar 2.0//EN
METHOD:PUBLISH
X-PUBLISHED-TTL:P3D
REFRESH-INTERVAL:P3D
CALSCALE:GREGORIAN
BEGIN:VEVENT
DTSTART:20150302T010000Z
DTEND:20150301T080000Z
X-MICROSOFT-CDO-ALLDAYEVENT:FALSE
SUMMARY:The 43rd Annual Chinese New Year Party
DESCRIPTION:The Stanislaus Chinese Association Presents: The 43rd Annual Chinese New Year Party - Celebrating the year of the SHEEP  We will be celebrating the Culture as well as enjoying Chinese Food\, Entertainment and a Raffle.  Tickets available at the following two locations.  $18 for Adults and $12 for Kids (6-12) Orient House805 W. Roseburg AveModesto 209-577-2099 Imperial Garden 2045 W. Briggsmore Ave #A1Modesto 209-521-1226
X-ALT-DESC;FMTTYPE=text/html:<DIV style="FONT-FAMILY: Arial">The Stanislaus Chinese Association Presents: The 43rd Annual Chinese New Year Party - Celebrating the year of the SHEEP </DIV><DIV style="FONT-FAMILY: Arial">&nbsp\;</DIV><DIV style="FONT-FAMILY: Arial">We will be&nbsp\;celebrating&nbsp\;the Culture as well as enjoying&nbsp\;Chinese Food\, Entertainment and a Raffle. </DIV><DIV style="FONT-FAMILY: Arial">&nbsp\;</DIV><DIV style="FONT-FAMILY: Arial">Tickets available at the following two locations. </DIV><DIV style="FONT-FAMILY: Arial">&nbsp\;</DIV><DIV style="FONT-FAMILY: Arial">$18 for Adults and $12 for Kids (6-12)</DIV><DIV style="FONT-FAMILY: Arial">&nbsp\;</DIV><DIV style="FONT-FAMILY: Arial">Orient House</DIV><DIV style="FONT-FAMILY: Arial">805 W. Roseburg Ave</DIV><DIV style="FONT-FAMILY: Arial">Modesto </DIV><DIV style="FONT-FAMILY: Arial">209-577-2099</DIV><DIV style="FONT-FAMILY: Arial">&nbsp\;</DIV><DIV style="FONT-FAMILY: Arial">Imperial Garden </DIV><DIV style="FONT-FAMILY: Arial">2045 W. Briggsmore Ave #A1</DIV><DIV style="FONT-FAMILY: Arial">Modesto </DIV><DIV style="FONT-FAMILY: Arial">209-521-1226</DIV><DIV style="FONT-FAMILY: Arial">&nbsp\;</DIV>
LOCATION:Modesto Centre Plaza 1000 L Street Modesto\, CA 95354
UID:e.2695.744
SEQUENCE:3
DTSTAMP:20260420T074142Z
URL:https://business.modchamber.org/events/details/the-43rd-annual-chinese-new-year-party-03-01-2015-744
END:VEVENT

END:VCALENDAR
