BEGIN:VCALENDAR
VERSION:2.0
PRODID:-//ChamberMaster//Event Calendar 2.0//EN
METHOD:PUBLISH
X-PUBLISHED-TTL:P3D
REFRESH-INTERVAL:P3D
CALSCALE:GREGORIAN
BEGIN:VEVENT
DTSTART:20150302T010000Z
DTEND:20150301T080000Z
X-MICROSOFT-CDO-ALLDAYEVENT:FALSE
SUMMARY:The 43rd Annual Chinese New Year Celebration
DESCRIPTION:Celebrating the year of SheepChinese Food\, Raffle & Entertainment. Tickets:\nAdults $18 Children $12 (6 - 12yrs.)Tickets available at:\nOrient House\n805 W. Roseburg Ave.\n209-577-2099\nor\nImperial Garden\n2045 W. Briggsmore Ave. Ste. A1\n209-521-1226
X-ALT-DESC;FMTTYPE=text/html:<P><STRONG>Celebrating the year of Sheep</STRONG></P><P><STRONG><FONT style="BACKGROUND-COLOR: #ffffff">Chinese Food\, Raffle &amp\; Entertainment. </FONT></STRONG></P><P><STRONG>Tickets:<BR></STRONG>Adults $18 Children $12 (6 - 12yrs.)</P><P><STRONG>Tickets available at:<BR></STRONG>Orient House<BR>805 W. Roseburg Ave.<BR>209-577-2099<BR>or<BR>Imperial Garden<BR>2045 W. Briggsmore Ave. Ste. A1<BR>209-521-1226</P>
LOCATION:Centre Plaza 1000 L Street Modesto\, CA 95354
UID:e.2695.776
SEQUENCE:3
DTSTAMP:20260420T074135Z
URL:https://business.modchamber.org/events/details/the-43rd-annual-chinese-new-year-celebration-03-01-2015-776
END:VEVENT

END:VCALENDAR
