BEGIN:VCALENDAR
VERSION:2.0
PRODID:-//ChamberMaster//Event Calendar 2.0//EN
METHOD:PUBLISH
X-PUBLISHED-TTL:P3D
REFRESH-INTERVAL:P3D
CALSCALE:GREGORIAN
BEGIN:VEVENT
DTSTART:20150315T230000Z
DTEND:20150315T070000Z
X-MICROSOFT-CDO-ALLDAYEVENT:FALSE
SUMMARY:Texas Guitar Quartet
DESCRIPTION:The Texas Guitar Quartet is Isaac Bustos\, Jonathan Dotson\, Alejandro Montiel and Joseph Williams II. As soloists\, they have garnered acclaim on concert stages around the world and prizes in dozens of international guitar competitions. Together\, they bring their unique passions and talents to an ensemble dedicated to presenting chamber music of the highest quality. The quartet has developed an exciting repertoire by commissioning new works and creating their own arrangements and compositions. Their daring arrangements\, such as Beethoven’s Egmont Overture\, offer fresh perspective on works from other repertoires and push the boundaries of the medium. The Gallo Center is pleased to team once again with the MJC Music Department on a very special event!\nContact :	Gallo Center\nPhone :	209-338-2100\nEmail :	\nWeb Site :	galloarts.org
X-ALT-DESC;FMTTYPE=text/html:	The Texas Guitar Quartet is Isaac Bustos\, Jonathan Dotson\, Alejandro Montiel and Joseph Williams II. As soloists\, they have garnered acclaim on concert stages around the world and prizes in dozens of international guitar competitions. Together\, they bring their unique passions and talents to an ensemble dedicated to presenting chamber music of the highest quality. The quartet has developed an exciting repertoire by commissioning new works and creating their own arrangements and compositions. Their daring arrangements\, such as Beethoven’s Egmont Overture\, offer fresh perspective on works from other repertoires and push the boundaries of the medium. The Gallo Center is pleased to team once again with the MJC Music Department on a very special event!\nContact :	Gallo Center\nPhone :	209-338-2100\nEmail :	\nWeb Site :	galloarts.org
LOCATION:Gallo Center 1000 I Street Modesto\, CA 95354
UID:e.2695.797
SEQUENCE:3
DTSTAMP:20260420T073759Z
URL:https://business.modchamber.org/events/details/texas-guitar-quartet-03-15-2015-797
END:VEVENT

END:VCALENDAR
