BEGIN:VCALENDAR
VERSION:2.0
PRODID:-//ChamberMaster//Event Calendar 2.0//EN
METHOD:PUBLISH
X-PUBLISHED-TTL:P3D
REFRESH-INTERVAL:P3D
CALSCALE:GREGORIAN
BEGIN:VEVENT
DTSTART:20160303T033000Z
DTEND:20160302T080000Z
X-MICROSOFT-CDO-ALLDAYEVENT:FALSE
SUMMARY:Terri Clark
DESCRIPTION:Canadian country star Terri Clark got her start playing for tips at Tootsie’s Orchid Lounge\, a honky-tonk bar across the alley from Nashville’s historic Ryman Auditorium. Driving\, passionate and spirited\, and a no-holds barred live performer\, Clark is an 8-time Canadian Country Music Association Entertainer of the Year\, and has taken home the CCMA Female Vocalist of the Year award five times. Her six #1 hits include “Better Things To Do\,” “Poor Poor Pitiful Me\,” “Girls Lie Too\,” and “I Just Wanna Be Mad.” She also has toured with such superstars as Brad Paisley\, Toby Keith\, Brooks & Dunn and Reba McEntire. Clark has sold more than five million albums.\nContact :	Gallo Center\nPhone :	209-338-2100\nEmail :	\nWeb Site :	galloarts.org
X-ALT-DESC;FMTTYPE=text/html:Canadian country star Terri Clark got her start playing for tips at Tootsie’s Orchid Lounge\, a honky-tonk bar across the alley from Nashville’s historic Ryman Auditorium. Driving\, passionate and spirited\, and a no-holds barred live performer\, Clark is an 8-time Canadian Country Music Association Entertainer of the Year\, and has taken home the CCMA Female Vocalist of the Year award five times. Her six #1 hits include “Better Things To Do\,” “Poor Poor Pitiful Me\,” “Girls Lie Too\,” and “I Just Wanna Be Mad.” She also has toured with such superstars as Brad Paisley\, Toby Keith\, Brooks & Dunn and Reba McEntire. Clark has sold more than five million albums.\nContact :	Gallo Center\nPhone :	209-338-2100\nEmail :	\nWeb Site :	galloarts.org
LOCATION:Gallo Center 1000 I Street Modesto\, CA 95354
UID:e.2695.1407
SEQUENCE:3
DTSTAMP:20260419T153140Z
URL:https://business.modchamber.org/events/details/terri-clark-03-02-2016-1407
END:VEVENT

END:VCALENDAR
