BEGIN:VCALENDAR
VERSION:2.0
PRODID:-//ChamberMaster//Event Calendar 2.0//EN
METHOD:PUBLISH
X-PUBLISHED-TTL:P3D
REFRESH-INTERVAL:P3D
CALSCALE:GREGORIAN
BEGIN:VEVENT
DTSTART:20150524T030000Z
DTEND:20150523T070000Z
X-MICROSOFT-CDO-ALLDAYEVENT:FALSE
SUMMARY:Teo Gonzales & La Chupitos
DESCRIPTION:He’s called “The Best Comedian in Mexico.” He’s also one of the busiest. Teo Gonzales is a near constant presence on television\, having performed on such series as “Al Ritmo de la Noche\,” “Los Comediantes\,” “El Festival del Humor\,” “Sabado Gigante” and “El Show de Cristina.” This wildly funny entertainer from León\, Guanajuato also performs 220 live shows annually\, across Mexico\, the U.S. and Central and South America. \n\nActress Liliana Arriaga is best known as “La Chupitos\,” a dirt-poor\, humble character reminiscent of comic portrayals by Carol Burnett and Red Skeleton. While Liliana has appeared in tele-novelas like "Mujeres Engañadas" and "Nunca Te Olvidaré\," her forte is clearly slapstick comedy\, which is why she is such a hit on shows including "No Manches\," "Don Francisco Presenta\," "100 Mexicanos Dijeron\," "VidaTV" and "La Casa de la Risa."
X-ALT-DESC;FMTTYPE=text/html:He’s called “The Best Comedian in Mexico.” He’s also one of the busiest. Teo Gonzales is a near constant presence on television\, having performed on such series as “Al Ritmo de la Noche\,” “Los Comediantes\,” “El Festival del Humor\,” “Sabado Gigante” and “El Show de Cristina.” This wildly funny entertainer from León\, Guanajuato also performs 220 live shows annually\, across Mexico\, the U.S. and Central and South America. \n\nActress Liliana Arriaga is best known as “La Chupitos\,” a dirt-poor\, humble character reminiscent of comic portrayals by Carol Burnett and Red Skeleton. While Liliana has appeared in tele-novelas like "Mujeres Engañadas" and "Nunca Te Olvidaré\," her forte is clearly slapstick comedy\, which is why she is such a hit on shows including "No Manches\," "Don Francisco Presenta\," "100 Mexicanos Dijeron\," "VidaTV" and "La Casa de la Risa."
LOCATION:Gallo Center For The Arts 1000 I St Modesto\, CA 95354
UID:e.2695.961
SEQUENCE:3
DTSTAMP:20260420T062518Z
URL:https://business.modchamber.org/events/details/teo-gonzales-la-chupitos-05-23-2015-961
END:VEVENT

END:VCALENDAR
