BEGIN:VCALENDAR
VERSION:2.0
PRODID:-//ChamberMaster//Event Calendar 2.0//EN
METHOD:PUBLISH
X-PUBLISHED-TTL:P3D
REFRESH-INTERVAL:P3D
CALSCALE:GREGORIAN
BEGIN:VEVENT
DTSTART:20140508T170000Z
DTEND:20140508T230000Z
X-MICROSOFT-CDO-ALLDAYEVENT:FALSE
SUMMARY:Technology Show
DESCRIPTION:Learn about the latest in network and mobile printing including wide format\, high volume and color.Experts will be available to discuss the newest developments in Professional IT and Managed Print services. \nWith document management using Laserfiche we can take your most troublesome business processes and reconfigure the processes into a usable Workflow. You’ll walk away with a better understanding on how you can make your document workflow more efficient.\n\nWe invite you to learnabout this industry-leading technology and our Professional Development\nProgram.
X-ALT-DESC;FMTTYPE=text/html:Learn about the latest in network and mobile printing including wide format\, high volume and color.Experts will be available to discuss the newest developments in Professional IT and Managed Print services. \nWith document management using Laserfiche we can take your most troublesome business processes and reconfigure the processes into a usable Workflow. You’ll walk away with a better understanding on how you can make your document workflow more efficient.\n\nWe invite you to learnabout this industry-leading technology and our Professional Development\nProgram.
LOCATION:The DoubleTree Hotel 1150 9th Street Modesto\, CA 95354
UID:e.2695.434
SEQUENCE:3
DTSTAMP:20260423T013221Z
URL:https://business.modchamber.org/events/details/technology-show-05-08-2014-434
END:VEVENT

END:VCALENDAR
