BEGIN:VCALENDAR
VERSION:2.0
PRODID:-//ChamberMaster//Event Calendar 2.0//EN
METHOD:PUBLISH
X-PUBLISHED-TTL:P3D
REFRESH-INTERVAL:P3D
CALSCALE:GREGORIAN
BEGIN:VEVENT
DTSTART:20131028T150000Z
DTEND:20131028T190000Z
X-MICROSOFT-CDO-ALLDAYEVENT:FALSE
SUMMARY:Tech Summit 2013
DESCRIPTION:Technology is supposed to make things better! Come and join this fun presentation where IT Solutions | Currie will help you shift your whole outlook on how technology can help improve your life and your business. We will share examples of how real business owners are using technology to save time\, save money\, and get more business. We will speak in down to earth terms that non-technical people can understand. Expose the myths and allow to finally push your business to where it deserves to be! If it doesn't save you time\, save money\, or make your life better - What is the point?
X-ALT-DESC;FMTTYPE=text/html:Technology is supposed to make things better! Come and join this fun presentation where IT Solutions | Currie will help you shift your whole outlook on how technology can help improve your life and your business. We will share examples of how real business owners are using technology to save time\, save money\, and get more business. We will speak in down to earth terms that non-technical people can understand. Expose the myths and allow to finally push your business to where it deserves to be! If it doesn't save you time\, save money\, or make your life better - What is the point?
LOCATION:IT Solutions | Currie 1801 Tully Rd Ste. E Modesto\, CA 95350
UID:e.2695.265
SEQUENCE:3
DTSTAMP:20260423T114909Z
URL:https://business.modchamber.org/events/details/tech-summit-2013-10-28-2013-265
END:VEVENT

END:VCALENDAR
