BEGIN:VCALENDAR
VERSION:2.0
PRODID:-//ChamberMaster//Event Calendar 2.0//EN
METHOD:PUBLISH
X-PUBLISHED-TTL:P3D
REFRESH-INTERVAL:P3D
CALSCALE:GREGORIAN
BEGIN:VEVENT
DTSTART:20160409T153000Z
DTEND:20160409T190000Z
X-MICROSOFT-CDO-ALLDAYEVENT:FALSE
SUMMARY:Teacher Job Fair
DESCRIPTION:Fully Credentialed Teachers & Intern Eligible\nContact :	Stanislaus Co. Office of Education\nPhone :	(209)238-1700\nEmail :	\nWeb Site :
X-ALT-DESC;FMTTYPE=text/html:Fully Credentialed Teachers & Intern Eligible\nContact :	Stanislaus Co. Office of Education\nPhone :	(209)238-1700\nEmail :	\nWeb Site :	
LOCATION:Stanislaus Co. Office of Education 1100 H Street Modesto\, CA 95354
UID:e.2695.1478
SEQUENCE:3
DTSTAMP:20260419T141054Z
URL:https://business.modchamber.org/events/details/teacher-job-fair-04-09-2016-1478
END:VEVENT

END:VCALENDAR
