BEGIN:VCALENDAR
VERSION:2.0
PRODID:-//ChamberMaster//Event Calendar 2.0//EN
METHOD:PUBLISH
X-PUBLISHED-TTL:P3D
REFRESH-INTERVAL:P3D
CALSCALE:GREGORIAN
BEGIN:VEVENT
DTSTART:20140308T210000Z
DTEND:20140308T230000Z
X-MICROSOFT-CDO-ALLDAYEVENT:FALSE
SUMMARY:Tea & Fashion Show
DESCRIPTION:Modesto Gospel Mission presents our annual Tea & Fashion Show featuring the Women of the New Life Program. Please join us for an afternoon of great tea\, food\, raffle prizes\, and our new Fashion Show Boutique! This even will benefit the Women's New Life Program. It will be held at the SOS Club\, located at 819 Sunset Ave\, Modesto. Tickets are $30 for General Seating and $35 for Premium Seating (while supplies last). Let us know if you want to decorate your table.
X-ALT-DESC;FMTTYPE=text/html:Modesto Gospel Mission presents our annual Tea & Fashion Show featuring the Women of the New Life Program. Please join us for an afternoon of great tea\, food\, raffle prizes\, and our new Fashion Show Boutique! This even will benefit the Women's New Life Program. It will be held at the SOS Club\, located at 819 Sunset Ave\, Modesto. Tickets are $30 for General Seating and $35 for Premium Seating (while supplies last). Let us know if you want to decorate your table.
LOCATION:SOS Club 819 Sunset Ave. Modesto\, CA 95351
UID:e.2695.389
SEQUENCE:3
DTSTAMP:20260423T060841Z
URL:https://business.modchamber.org/events/details/tea-fashion-show-03-08-2014-389
END:VEVENT

END:VCALENDAR
