BEGIN:VCALENDAR
VERSION:2.0
PRODID:-//ChamberMaster//Event Calendar 2.0//EN
METHOD:PUBLISH
X-PUBLISHED-TTL:P3D
REFRESH-INTERVAL:P3D
CALSCALE:GREGORIAN
BEGIN:VEVENT
DTSTART:20150418T030000Z
DTEND:20150418T070000Z
X-MICROSOFT-CDO-ALLDAYEVENT:FALSE
SUMMARY:Tchaikovsky Symphony No.6
DESCRIPTION:Classics Series\n\nDavid Lockington\, conductor\nEliot Bailen\, cello\nSusan Rotholz\, flute\n\nProgram\n\nMozart · The Marriage of Figaro (Le nozze di Figaro) Overture\nBailen · Double Concerto for Flute & Cello*\nTchaikovsky · Symphony No. 6 in B minor\, Op. 74\, “Pathétique”\n\n*Denotes premiere for the Modesto Symphony Orchestra\n\nA concert of passion and power\, the MSO will perform Tchaikovsky’s final masterpiece — the Pathétique Symphony. Both emotionally intense and moving the Pathétique is a work recognizable the world over. This program also includes a MSO premiere of a work by composer Eliot Bailen performed by the\ncomposer and his wife\, flautist Susan Rotholz.\nMozart - The Marriage of Figaro Ouverture "Le nozze di Figaro" (K.492)\nWiener Symphoniker Japan Tour 2006\nContact : 	Gallo Center\nPhone : 	209-338-2100\nEmail : 	\nWeb Site : 	galloarts.org
X-ALT-DESC;FMTTYPE=text/html:	Classics Series\n\nDavid Lockington\, conductor\nEliot Bailen\, cello\nSusan Rotholz\, flute\n\nProgram\n\nMozart · The Marriage of Figaro (Le nozze di Figaro) Overture\nBailen · Double Concerto for Flute & Cello*\nTchaikovsky · Symphony No. 6 in B minor\, Op. 74\, “Pathétique”\n\n*Denotes premiere for the Modesto Symphony Orchestra\n\nA concert of passion and power\, the MSO will perform Tchaikovsky’s final masterpiece — the Pathétique Symphony. Both emotionally intense and moving the Pathétique is a work recognizable the world over. This program also includes a MSO premiere of a work by composer Eliot Bailen performed by the\ncomposer and his wife\, flautist Susan Rotholz.\nMozart - The Marriage of Figaro Ouverture "Le nozze di Figaro" (K.492)\nWiener Symphoniker Japan Tour 2006\nContact : 	Gallo Center\nPhone : 	209-338-2100\nEmail : 	\nWeb Site : 	galloarts.org
LOCATION:Gallo Center 1000 I St Modesto\, CA 95354
UID:e.2695.873
SEQUENCE:3
DTSTAMP:20260420T062754Z
URL:https://business.modchamber.org/events/details/tchaikovsky-symphony-no-6-04-17-2015-873
END:VEVENT

END:VCALENDAR
