BEGIN:VCALENDAR
VERSION:2.0
PRODID:-//ChamberMaster//Event Calendar 2.0//EN
METHOD:PUBLISH
X-PUBLISHED-TTL:P3D
REFRESH-INTERVAL:P3D
CALSCALE:GREGORIAN
BEGIN:VEVENT
DTSTART:20141105T200000Z
DTEND:20141105T210000Z
X-MICROSOFT-CDO-ALLDAYEVENT:FALSE
SUMMARY:Tax Credits Workshop
DESCRIPTION:American Tax Credits Group will be hosting a Free workshop/seminar at the Modesto Chamber of Commerce.  Our objective is to answer any questions and to show you your actual benefit and what you may bemissing out on.\n\nDue to the limitation of the Enterprise Zone Program ending at the end of the year\, Contact ATG before it's too late!\n\nFree Lunch and refreshments will be provided.\nBe Sure to RSVP now.\n\nContact our office to RSVP or for more info:\n559-412-0836 or email jortega@amtcg.com
X-ALT-DESC;FMTTYPE=text/html:American Tax Credits Group will be hosting a Free workshop/seminar at the Modesto Chamber of Commerce.  Our objective is to answer any questions and to show you your actual benefit and what you may bemissing out on.\n\nDue to the limitation of the Enterprise Zone Program ending at the end of the year\, Contact ATG before it's too late!\n\nFree Lunch and refreshments will be provided.\nBe Sure to RSVP now.\n\nContact our office to RSVP or for more info:\n559-412-0836 or email jortega@amtcg.com\n
LOCATION:Modesto Chamber of Commerce 1114 J Street Modesto\, CA 95354
UID:e.2695.598
SEQUENCE:3
DTSTAMP:20260422T153927Z
URL:https://business.modchamber.org/events/details/tax-credits-workshop-11-05-2014-598
END:VEVENT

END:VCALENDAR
