BEGIN:VCALENDAR
VERSION:2.0
PRODID:-//ChamberMaster//Event Calendar 2.0//EN
METHOD:PUBLISH
X-PUBLISHED-TTL:P3D
REFRESH-INTERVAL:P3D
CALSCALE:GREGORIAN
BEGIN:VEVENT
DTSTART:20160319T023000Z
DTEND:20160318T070000Z
X-MICROSOFT-CDO-ALLDAYEVENT:FALSE
SUMMARY:TAO: 17 SAMURAI
DESCRIPTION:This all-new production from TAO combines athletic bodies and contemporary costumes with explosive Taiko drumming and innovative choreography. "TAO: Seventeen Samurai" has critics raving about the troupe’s extraordinary precision\, energy\, and stamina. With hundreds of sold-out shows and more than six million spectators worldwide\, TAO has proven that modern entertainment based on the timeless\, traditional art of Japanese drumming\, entertains over and over again!\nContact :	Gallo Center\nPhone :	209-338-2100\nEmail :	\nWeb Site :	galloarts.org
X-ALT-DESC;FMTTYPE=text/html:This all-new production from TAO combines athletic bodies and contemporary costumes with explosive Taiko drumming and innovative choreography. "TAO: Seventeen Samurai" has critics raving about the troupe’s extraordinary precision\, energy\, and stamina. With hundreds of sold-out shows and more than six million spectators worldwide\, TAO has proven that modern entertainment based on the timeless\, traditional art of Japanese drumming\, entertains over and over again!\nContact :	Gallo Center\nPhone :	209-338-2100\nEmail :	\nWeb Site :	galloarts.org\n
LOCATION:Gallo Center 1000 I Street Modesto\, CA 95354
UID:e.2695.1466
SEQUENCE:3
DTSTAMP:20260419T153131Z
URL:https://business.modchamber.org/events/details/tao-17-samurai-03-18-2016-1466
END:VEVENT

END:VCALENDAR
