BEGIN:VCALENDAR
VERSION:2.0
PRODID:-//ChamberMaster//Event Calendar 2.0//EN
METHOD:PUBLISH
X-PUBLISHED-TTL:P3D
REFRESH-INTERVAL:P3D
CALSCALE:GREGORIAN
BEGIN:VEVENT
DTSTART:20140614T010000Z
DTEND:20140613T070000Z
X-MICROSOFT-CDO-ALLDAYEVENT:FALSE
SUMMARY:Take A Swing At Crime
DESCRIPTION:Night Golf Tournament
X-ALT-DESC;FMTTYPE=text/html:Night Golf Tournament
LOCATION:Creekside Golf Course 701 Lincoln Avenue Modesto\, CA 95357
UID:e.2695.430
SEQUENCE:3
DTSTAMP:20260423T000836Z
URL:https://business.modchamber.org/events/details/take-a-swing-at-crime-06-13-2014-430
END:VEVENT

END:VCALENDAR
