BEGIN:VCALENDAR
VERSION:2.0
PRODID:-//ChamberMaster//Event Calendar 2.0//EN
METHOD:PUBLISH
X-PUBLISHED-TTL:P3D
REFRESH-INTERVAL:P3D
CALSCALE:GREGORIAN
BEGIN:VEVENT
DTSTART:20131019T020000Z
DTEND:20131020T050000Z
X-MICROSOFT-CDO-ALLDAYEVENT:FALSE
SUMMARY:Swan Lake
DESCRIPTION:Swan Lake is coming to the Gallo Center for the Arts October 18th and 19th at 7pm and 2pm. check outcwballet.org for details!
X-ALT-DESC;FMTTYPE=text/html:Swan Lake is coming to the Gallo Center for the Arts October 18th and 19th at 7pm and 2pm. check outcwballet.org for details!
LOCATION:5039 Pentecost Dr. Modesto\, CA 95356
UID:e.2695.312
SEQUENCE:3
DTSTAMP:20260423T120713Z
URL:https://business.modchamber.org/events/details/swan-lake-10-18-2013-312
END:VEVENT

END:VCALENDAR
