BEGIN:VCALENDAR
VERSION:2.0
PRODID:-//ChamberMaster//Event Calendar 2.0//EN
METHOD:PUBLISH
X-PUBLISHED-TTL:P3D
REFRESH-INTERVAL:P3D
CALSCALE:GREGORIAN
BEGIN:VEVENT
DTSTART:20150502T160000Z
DTEND:20150502T070000Z
X-MICROSOFT-CDO-ALLDAYEVENT:FALSE
SUMMARY:Super Hero Fun Run & Walk
DESCRIPTION:This is a timed 5K and 10 K Run/Walk\, Registration begins at 9 a.m. The Super Hero Fun Run & Walk is an annual fundraising event designed to bring attention to the families living below the poverty line in Stanislaus County. All funds go to replenish the food pantry at both The Salvation Army and Inter-Faith Ministries.\nContact :	Interfaith Ministries of Greater Modesto\nPhone :	572-3117
X-ALT-DESC;FMTTYPE=text/html:	This is a timed 5K and 10 K Run/Walk\, Registration begins at 9 a.m. The Super Hero Fun Run & Walk is an annual fundraising event designed to bring attention to the families living below the poverty line in Stanislaus County. All funds go to replenish the food pantry at both The Salvation Army and Inter-Faith Ministries.\nContact :	Interfaith Ministries of Greater Modesto\nPhone :	572-3117
LOCATION:Graceada Park 401 Needham Ave Modesto\, CA 95354
UID:e.2695.913
SEQUENCE:3
DTSTAMP:20260420T045340Z
URL:https://business.modchamber.org/events/details/super-hero-fun-run-walk-05-02-2015-913
END:VEVENT

END:VCALENDAR
