BEGIN:VCALENDAR
VERSION:2.0
PRODID:-//ChamberMaster//Event Calendar 2.0//EN
METHOD:PUBLISH
X-PUBLISHED-TTL:P3D
REFRESH-INTERVAL:P3D
CALSCALE:GREGORIAN
BEGIN:VEVENT
DTSTART:20160213T170000Z
DTEND:20160213T080000Z
X-MICROSOFT-CDO-ALLDAYEVENT:FALSE
SUMMARY:Super Hero 5K & 10K walk/runs and kid's fun run
DESCRIPTION:Every one of us has an opportunity to be a hero to our community and we are having a race to celebrate everyone that does! Come join us for our "Super Hero" themed fun run. We will have two distances\, a 5k and 10k\, and a kids fun run. All proceeds from this race will go to support the Center for Human Services shelters\, so dust off your capes\, get your secret identity ready and let's all do good for your community together!\n\nSign up!\nhttps://runsignup.com/Race/Events/CA/Modesto/RunningHomeARuntoSupportCenterforHumanServicesShetlersforYouth\nContact :	\nPhone :	\nEmail :	\nWeb Site :
X-ALT-DESC;FMTTYPE=text/html:Every one of us has an opportunity to be a hero to our community and we are having a race to celebrate everyone that does! Come join us for our "Super Hero" themed fun run. We will have two distances\, a 5k and 10k\, and a kids fun run. All proceeds from this race will go to support the Center for Human Services shelters\, so dust off your capes\, get your secret identity ready and let's all do good for your community together!\n\nSign up!\nhttps://runsignup.com/Race/Events/CA/Modesto/RunningHomeARuntoSupportCenterforHumanServicesShetlersforYouth\nContact :	\nPhone :	\nEmail :	\nWeb Site :	\n
LOCATION:East La Loma Park 2001 Edgebrook Drive Modesto\, CA 95354
UID:e.2695.652
SEQUENCE:3
DTSTAMP:20260419T164727Z
URL:https://business.modchamber.org/events/details/super-hero-5k-10k-walk-runs-and-kid-s-fun-run-02-13-2016-652
END:VEVENT

END:VCALENDAR
