BEGIN:VCALENDAR
VERSION:2.0
PRODID:-//ChamberMaster//Event Calendar 2.0//EN
METHOD:PUBLISH
X-PUBLISHED-TTL:P3D
REFRESH-INTERVAL:P3D
CALSCALE:GREGORIAN
BEGIN:VEVENT
DTSTART:20150801T230000Z
DTEND:20150802T020000Z
X-MICROSOFT-CDO-ALLDAYEVENT:FALSE
SUMMARY:Summer Concert Series
DESCRIPTION:Enjoy Live & Local performances from some of Modesto's favorite performers this summer at Vintage Faire Mall.\n\nCENTER COURT\n4 PM - 7 PM\n\nPerformance by: Francesca Bavaro\n2011 Valley's Got Talent Winner\nContact :	Vintage Faire Mall
X-ALT-DESC;FMTTYPE=text/html:Enjoy Live & Local performances from some of Modesto's favorite performers this summer at Vintage Faire Mall.\n\nCENTER COURT\n4 PM - 7 PM\n\nPerformance by: Francesca Bavaro\n2011 Valley's Got Talent Winner\nContact :	Vintage Faire Mall
LOCATION:Vintage Faire Mall 3401 Dale Rd Modesto\, CA 95350
UID:e.2695.1158
SEQUENCE:3
DTSTAMP:20260420T014841Z
URL:https://business.modchamber.org/events/details/summer-concert-series-08-01-2015-1158
END:VEVENT

END:VCALENDAR
