BEGIN:VCALENDAR
VERSION:2.0
PRODID:-//ChamberMaster//Event Calendar 2.0//EN
METHOD:PUBLISH
X-PUBLISHED-TTL:P3D
REFRESH-INTERVAL:P3D
CALSCALE:GREGORIAN
BEGIN:VEVENT
DTSTART:20160130T173000Z
DTEND:20160131T000000Z
X-MICROSOFT-CDO-ALLDAYEVENT:FALSE
SUMMARY:Strive to Save a LIFE - Knights of the Sheild
DESCRIPTION:Please call Delta Blood Bank to make an appointment! Walk-ins welcome!\nContact :	Delta Blood Bank\nPhone :	1-888-942-5663\nEmail :	\nWeb Site :
X-ALT-DESC;FMTTYPE=text/html:Please call Delta Blood Bank to make an appointment! Walk-ins welcome!\nContact :	Delta Blood Bank\nPhone :	1-888-942-5663\nEmail :	\nWeb Site :	
LOCATION:Delta Blood bank 1900 W. Orangeburg Ave. Modesto\, CA 95350
UID:e.2695.1421
SEQUENCE:3
DTSTAMP:20260419T175020Z
URL:https://business.modchamber.org/events/details/strive-to-save-a-life-knights-of-the-sheild-01-30-2016-1421
END:VEVENT

END:VCALENDAR
