BEGIN:VCALENDAR
VERSION:2.0
PRODID:-//ChamberMaster//Event Calendar 2.0//EN
METHOD:PUBLISH
X-PUBLISHED-TTL:P3D
REFRESH-INTERVAL:P3D
CALSCALE:GREGORIAN
BEGIN:VEVENT
DTSTART:20150411T190000Z
DTEND:20150411T070000Z
X-MICROSOFT-CDO-ALLDAYEVENT:FALSE
SUMMARY:Strike Out Suicide bowling event
DESCRIPTION:Lunch at 12:00 bowling at 1:00 pm\n\n$50 per person includes lunch\, bowling\, event t-shirts and prizes\n\nOr just stop by for lunch ($6.00) and check out the silent auction and raffle gifts\n\nFun filled day for children and adults\n\nAll proceeds to The American Foundation for Suicide Prevention\n\n\n\nContact : 	Dallas or Stacey\nPhone : 	571-2695\nEmail :
X-ALT-DESC;FMTTYPE=text/html:	Lunch at 12:00 bowling at 1:00 pm\n\n$50 per person includes lunch\, bowling\, event t-shirts and prizes\n\nOr just stop by for lunch ($6.00) and check out the silent auction and raffle gifts\n\nFun filled day for children and adults\n\nAll proceeds to The American Foundation for Suicide Prevention\n\n\n\nContact : 	Dallas or Stacey\nPhone : 	571-2695\nEmail :
LOCATION:McHenry Bowl 3700 McHenry Ave Modesto\, CA 95354
UID:e.2695.861
SEQUENCE:3
DTSTAMP:20260420T062810Z
URL:https://business.modchamber.org/events/details/strike-out-suicide-bowling-event-04-11-2015-861
END:VEVENT

END:VCALENDAR
