BEGIN:VCALENDAR
VERSION:2.0
PRODID:-//ChamberMaster//Event Calendar 2.0//EN
METHOD:PUBLISH
X-PUBLISHED-TTL:P3D
REFRESH-INTERVAL:P3D
CALSCALE:GREGORIAN
BEGIN:VEVENT
DTSTART:20140315T023000Z
DTEND:20140315T053000Z
X-MICROSOFT-CDO-ALLDAYEVENT:FALSE
SUMMARY:Stockton Thunder-Modesto Chamber-Easy Being Green Night
DESCRIPTION:
X-ALT-DESC;FMTTYPE=text/html:
LOCATION:Stockton Arena 248 W. Fremont Street Stockton\, Ca 95203
UID:e.2695.386
SEQUENCE:3
DTSTAMP:20260423T032647Z
URL:https://business.modchamber.org/events/details/stockton-thunder-modesto-chamber-easy-being-green-night-03-14-2014-386
END:VEVENT

END:VCALENDAR
