BEGIN:VCALENDAR
VERSION:2.0
PRODID:-//ChamberMaster//Event Calendar 2.0//EN
METHOD:PUBLISH
X-PUBLISHED-TTL:P3D
REFRESH-INTERVAL:P3D
CALSCALE:GREGORIAN
BEGIN:VEVENT
DTSTART:20150625T230000Z
DTEND:20150626T000000Z
X-MICROSOFT-CDO-ALLDAYEVENT:FALSE
SUMMARY:Steptember Launch Party
DESCRIPTION:
X-ALT-DESC;FMTTYPE=text/html:
LOCATION:Solid Networks 5686 Pirrone Road Salida\, CA 95368
UID:e.2695.1140
SEQUENCE:3
DTSTAMP:20260420T045322Z
URL:https://business.modchamber.org/events/details/steptember-launch-party-06-25-2015-1140
END:VEVENT

END:VCALENDAR
