BEGIN:VCALENDAR
VERSION:2.0
PRODID:-//ChamberMaster//Event Calendar 2.0//EN
METHOD:PUBLISH
X-PUBLISHED-TTL:P3D
REFRESH-INTERVAL:P3D
CALSCALE:GREGORIAN
BEGIN:VEVENT
DTSTART:20160313T220000Z
DTEND:20160313T080000Z
X-MICROSOFT-CDO-ALLDAYEVENT:FALSE
SUMMARY:Stephanie Cadman Trio
DESCRIPTION:Canadian Celtic at Its Best\n\nStephanie Cadman and trio members feature music and dance viewed through the bright prism of their Canadian heritage. Her high-energy talents are boundless\, and she is recognized as one of Canada’s top violinists\, as well as a world-renowned dancer\, knockout singer\, and accomplished stage and screen actress. Look forward to a dynamic and lively Celtic afternoon.\nContact :	\nPhone :	209-571-6060\nEmail :	\nWeb Site :	http://sundaysatcbs.com/
X-ALT-DESC;FMTTYPE=text/html:Canadian Celtic at Its Best\n\nStephanie Cadman and trio members feature music and dance viewed through the bright prism of their Canadian heritage. Her high-energy talents are boundless\, and she is recognized as one of Canada’s top violinists\, as well as a world-renowned dancer\, knockout singer\, and accomplished stage and screen actress. Look forward to a dynamic and lively Celtic afternoon.\nContact :	\nPhone :	209-571-6060\nEmail :	\nWeb Site :	http://sundaysatcbs.com/
LOCATION:Congregation Beth Shalom 1705 Sherwood Ave Modesto\, CA 95355
UID:e.2695.1358
SEQUENCE:3
DTSTAMP:20260419T163501Z
URL:https://business.modchamber.org/events/details/stephanie-cadman-trio-03-13-2016-1358
END:VEVENT

END:VCALENDAR
