BEGIN:VCALENDAR
VERSION:2.0
PRODID:-//ChamberMaster//Event Calendar 2.0//EN
METHOD:PUBLISH
X-PUBLISHED-TTL:P3D
REFRESH-INTERVAL:P3D
CALSCALE:GREGORIAN
BEGIN:VEVENT
DTSTART:20150301T230000Z
DTEND:20150301T080000Z
X-MICROSOFT-CDO-ALLDAYEVENT:FALSE
SUMMARY:Steep Canyon Rangers
DESCRIPTION:These spirited\, expressive Grammy Award winners (and Steve Martin's back-up band) are the Rembrandts of blue grass music\, playing mandolin\, fiddle\, guitar and banjo coupled with tight vocal harmony.\nContact :	Gallo Center\nPhone :	209-338-2100\nEmail :	\nWeb Site :	galloarts.org
X-ALT-DESC;FMTTYPE=text/html:These spirited\, expressive Grammy Award winners (and Steve Martin's back-up band) are the Rembrandts of blue grass music\, playing mandolin\, fiddle\, guitar and banjo coupled with tight vocal harmony.\nContact :	Gallo Center\nPhone :	209-338-2100\nEmail :	\nWeb Site :	galloarts.org
LOCATION:Gallo Center 1000 I Street Modesto\, CA 95354
UID:e.2695.777
SEQUENCE:3
DTSTAMP:20260420T073911Z
URL:https://business.modchamber.org/events/details/steep-canyon-rangers-03-01-2015-777
END:VEVENT

END:VCALENDAR
