BEGIN:VCALENDAR
VERSION:2.0
PRODID:-//ChamberMaster//Event Calendar 2.0//EN
METHOD:PUBLISH
X-PUBLISHED-TTL:P3D
REFRESH-INTERVAL:P3D
CALSCALE:GREGORIAN
BEGIN:VEVENT
DTSTART:20141022T183000Z
DTEND:20141022T200000Z
X-MICROSOFT-CDO-ALLDAYEVENT:FALSE
SUMMARY:State of the Region Economic Development Luncheon 2014
DESCRIPTION:The Modesto Chamber of Commerce will host its 6th Annual State of the Region Luncheon. Leaders from business\, economic development and government gather to have candid discussions about real challenges and opportunities facing the region\, while charting a course for economic and community vibrancy.
X-ALT-DESC;FMTTYPE=text/html:<P>The Modesto Chamber of Commerce will host its 6th Annual State of the Region Luncheon. Leaders from business\, economic development and government gather to have candid discussions about real challenges and opportunities facing the region\, while charting a course for economic and community vibrancy. </P>
LOCATION:Modesto Centre Plaza 10th & K Street Modesto\, CA 95354
UID:e.2695.417
SEQUENCE:3
DTSTAMP:20260422T165252Z
URL:https://business.modchamber.org/events/details/state-of-the-region-economic-development-luncheon-2014-10-22-2014-417
END:VEVENT

END:VCALENDAR
